BEGIN:VCALENDAR
VERSION:2.0
PRODID:-//Gioconda Yoga - ECPv6.15.20//NONSGML v1.0//EN
CALSCALE:GREGORIAN
METHOD:PUBLISH
X-WR-CALNAME:Gioconda Yoga
X-ORIGINAL-URL:https://giocondayoga.com
X-WR-CALDESC:Events for Gioconda Yoga
REFRESH-INTERVAL;VALUE=DURATION:PT1H
X-Robots-Tag:noindex
X-PUBLISHED-TTL:PT1H
BEGIN:VTIMEZONE
TZID:America/New_York
BEGIN:DAYLIGHT
TZOFFSETFROM:-0500
TZOFFSETTO:-0400
TZNAME:EDT
DTSTART:20290311T070000
END:DAYLIGHT
BEGIN:STANDARD
TZOFFSETFROM:-0400
TZOFFSETTO:-0500
TZNAME:EST
DTSTART:20291104T060000
END:STANDARD
BEGIN:DAYLIGHT
TZOFFSETFROM:-0500
TZOFFSETTO:-0400
TZNAME:EDT
DTSTART:20300310T070000
END:DAYLIGHT
BEGIN:STANDARD
TZOFFSETFROM:-0400
TZOFFSETTO:-0500
TZNAME:EST
DTSTART:20301103T060000
END:STANDARD
BEGIN:DAYLIGHT
TZOFFSETFROM:-0500
TZOFFSETTO:-0400
TZNAME:EDT
DTSTART:20310309T070000
END:DAYLIGHT
BEGIN:STANDARD
TZOFFSETFROM:-0400
TZOFFSETTO:-0500
TZNAME:EST
DTSTART:20311102T060000
END:STANDARD
END:VTIMEZONE
BEGIN:VEVENT
DTSTART;TZID=America/New_York:20300224T071500
DTEND;TZID=America/New_York:20300224T083000
DTSTAMP:20260422T082042
CREATED:20260320T185150Z
LAST-MODIFIED:20260320T185844Z
UID:10010981-1898147700-1898152200@giocondayoga.com
SUMMARY:7:15-8:30am Somatic Flow and Sound @Black Swan Anderson
DESCRIPTION:Somatic Flow & Sound:Move\, build\, release. This class guides you through an intentional arc of fluid\, breath-driven movement designed to wake up sensation and bring you fully into your body. After the flow\, settle into stillness and drop into a sound bath to integrate and reset.
URL:https://giocondayoga.com/event/715-830am-somatic-flow-and-sound-black-swan-anderson/2030-02-24/
LOCATION:Black Swan Anderson\, 1417 West Anderson Lane\, Austin\, Texas\, 78757
CATEGORIES:Classes
ATTACH;FMTTYPE=image/jpeg:https://giocondayoga.com/wp-content/uploads/2024/03/About-Gia-Resized-1.jpg
END:VEVENT
BEGIN:VEVENT
DTSTART;TZID=America/New_York:20300303T071500
DTEND;TZID=America/New_York:20300303T083000
DTSTAMP:20260422T082042
CREATED:20260320T185150Z
LAST-MODIFIED:20260320T185844Z
UID:10010982-1898752500-1898757000@giocondayoga.com
SUMMARY:7:15-8:30am Somatic Flow and Sound @Black Swan Anderson
DESCRIPTION:Somatic Flow & Sound:Move\, build\, release. This class guides you through an intentional arc of fluid\, breath-driven movement designed to wake up sensation and bring you fully into your body. After the flow\, settle into stillness and drop into a sound bath to integrate and reset.
URL:https://giocondayoga.com/event/715-830am-somatic-flow-and-sound-black-swan-anderson/2030-03-03/
LOCATION:Black Swan Anderson\, 1417 West Anderson Lane\, Austin\, Texas\, 78757
CATEGORIES:Classes
ATTACH;FMTTYPE=image/jpeg:https://giocondayoga.com/wp-content/uploads/2024/03/About-Gia-Resized-1.jpg
END:VEVENT
BEGIN:VEVENT
DTSTART;TZID=America/New_York:20300310T071500
DTEND;TZID=America/New_York:20300310T083000
DTSTAMP:20260422T082042
CREATED:20260320T185150Z
LAST-MODIFIED:20260320T185844Z
UID:10010983-1899357300-1899361800@giocondayoga.com
SUMMARY:7:15-8:30am Somatic Flow and Sound @Black Swan Anderson
DESCRIPTION:Somatic Flow & Sound:Move\, build\, release. This class guides you through an intentional arc of fluid\, breath-driven movement designed to wake up sensation and bring you fully into your body. After the flow\, settle into stillness and drop into a sound bath to integrate and reset.
URL:https://giocondayoga.com/event/715-830am-somatic-flow-and-sound-black-swan-anderson/2030-03-10/
LOCATION:Black Swan Anderson\, 1417 West Anderson Lane\, Austin\, Texas\, 78757
CATEGORIES:Classes
ATTACH;FMTTYPE=image/jpeg:https://giocondayoga.com/wp-content/uploads/2024/03/About-Gia-Resized-1.jpg
END:VEVENT
BEGIN:VEVENT
DTSTART;TZID=America/New_York:20300317T071500
DTEND;TZID=America/New_York:20300317T083000
DTSTAMP:20260422T082042
CREATED:20260320T185150Z
LAST-MODIFIED:20260320T185844Z
UID:10010984-1899962100-1899966600@giocondayoga.com
SUMMARY:7:15-8:30am Somatic Flow and Sound @Black Swan Anderson
DESCRIPTION:Somatic Flow & Sound:Move\, build\, release. This class guides you through an intentional arc of fluid\, breath-driven movement designed to wake up sensation and bring you fully into your body. After the flow\, settle into stillness and drop into a sound bath to integrate and reset.
URL:https://giocondayoga.com/event/715-830am-somatic-flow-and-sound-black-swan-anderson/2030-03-17/
LOCATION:Black Swan Anderson\, 1417 West Anderson Lane\, Austin\, Texas\, 78757
CATEGORIES:Classes
ATTACH;FMTTYPE=image/jpeg:https://giocondayoga.com/wp-content/uploads/2024/03/About-Gia-Resized-1.jpg
END:VEVENT
BEGIN:VEVENT
DTSTART;TZID=America/New_York:20300324T071500
DTEND;TZID=America/New_York:20300324T083000
DTSTAMP:20260422T082042
CREATED:20260320T185150Z
LAST-MODIFIED:20260320T185844Z
UID:10010985-1900566900-1900571400@giocondayoga.com
SUMMARY:7:15-8:30am Somatic Flow and Sound @Black Swan Anderson
DESCRIPTION:Somatic Flow & Sound:Move\, build\, release. This class guides you through an intentional arc of fluid\, breath-driven movement designed to wake up sensation and bring you fully into your body. After the flow\, settle into stillness and drop into a sound bath to integrate and reset.
URL:https://giocondayoga.com/event/715-830am-somatic-flow-and-sound-black-swan-anderson/2030-03-24/
LOCATION:Black Swan Anderson\, 1417 West Anderson Lane\, Austin\, Texas\, 78757
CATEGORIES:Classes
ATTACH;FMTTYPE=image/jpeg:https://giocondayoga.com/wp-content/uploads/2024/03/About-Gia-Resized-1.jpg
END:VEVENT
BEGIN:VEVENT
DTSTART;TZID=America/New_York:20300331T071500
DTEND;TZID=America/New_York:20300331T083000
DTSTAMP:20260422T082042
CREATED:20260320T185150Z
LAST-MODIFIED:20260320T185844Z
UID:10010986-1901171700-1901176200@giocondayoga.com
SUMMARY:7:15-8:30am Somatic Flow and Sound @Black Swan Anderson
DESCRIPTION:Somatic Flow & Sound:Move\, build\, release. This class guides you through an intentional arc of fluid\, breath-driven movement designed to wake up sensation and bring you fully into your body. After the flow\, settle into stillness and drop into a sound bath to integrate and reset.
URL:https://giocondayoga.com/event/715-830am-somatic-flow-and-sound-black-swan-anderson/2030-03-31/
LOCATION:Black Swan Anderson\, 1417 West Anderson Lane\, Austin\, Texas\, 78757
CATEGORIES:Classes
ATTACH;FMTTYPE=image/jpeg:https://giocondayoga.com/wp-content/uploads/2024/03/About-Gia-Resized-1.jpg
END:VEVENT
BEGIN:VEVENT
DTSTART;TZID=America/New_York:20300407T071500
DTEND;TZID=America/New_York:20300407T083000
DTSTAMP:20260422T082042
CREATED:20260320T185150Z
LAST-MODIFIED:20260320T185844Z
UID:10010987-1901776500-1901781000@giocondayoga.com
SUMMARY:7:15-8:30am Somatic Flow and Sound @Black Swan Anderson
DESCRIPTION:Somatic Flow & Sound:Move\, build\, release. This class guides you through an intentional arc of fluid\, breath-driven movement designed to wake up sensation and bring you fully into your body. After the flow\, settle into stillness and drop into a sound bath to integrate and reset.
URL:https://giocondayoga.com/event/715-830am-somatic-flow-and-sound-black-swan-anderson/2030-04-07/
LOCATION:Black Swan Anderson\, 1417 West Anderson Lane\, Austin\, Texas\, 78757
CATEGORIES:Classes
ATTACH;FMTTYPE=image/jpeg:https://giocondayoga.com/wp-content/uploads/2024/03/About-Gia-Resized-1.jpg
END:VEVENT
BEGIN:VEVENT
DTSTART;TZID=America/New_York:20300414T071500
DTEND;TZID=America/New_York:20300414T083000
DTSTAMP:20260422T082042
CREATED:20260320T185150Z
LAST-MODIFIED:20260320T185844Z
UID:10010988-1902381300-1902385800@giocondayoga.com
SUMMARY:7:15-8:30am Somatic Flow and Sound @Black Swan Anderson
DESCRIPTION:Somatic Flow & Sound:Move\, build\, release. This class guides you through an intentional arc of fluid\, breath-driven movement designed to wake up sensation and bring you fully into your body. After the flow\, settle into stillness and drop into a sound bath to integrate and reset.
URL:https://giocondayoga.com/event/715-830am-somatic-flow-and-sound-black-swan-anderson/2030-04-14/
LOCATION:Black Swan Anderson\, 1417 West Anderson Lane\, Austin\, Texas\, 78757
CATEGORIES:Classes
ATTACH;FMTTYPE=image/jpeg:https://giocondayoga.com/wp-content/uploads/2024/03/About-Gia-Resized-1.jpg
END:VEVENT
BEGIN:VEVENT
DTSTART;TZID=America/New_York:20300421T071500
DTEND;TZID=America/New_York:20300421T083000
DTSTAMP:20260422T082042
CREATED:20260320T185150Z
LAST-MODIFIED:20260320T185844Z
UID:10010989-1902986100-1902990600@giocondayoga.com
SUMMARY:7:15-8:30am Somatic Flow and Sound @Black Swan Anderson
DESCRIPTION:Somatic Flow & Sound:Move\, build\, release. This class guides you through an intentional arc of fluid\, breath-driven movement designed to wake up sensation and bring you fully into your body. After the flow\, settle into stillness and drop into a sound bath to integrate and reset.
URL:https://giocondayoga.com/event/715-830am-somatic-flow-and-sound-black-swan-anderson/2030-04-21/
LOCATION:Black Swan Anderson\, 1417 West Anderson Lane\, Austin\, Texas\, 78757
CATEGORIES:Classes
ATTACH;FMTTYPE=image/jpeg:https://giocondayoga.com/wp-content/uploads/2024/03/About-Gia-Resized-1.jpg
END:VEVENT
BEGIN:VEVENT
DTSTART;TZID=America/New_York:20300428T071500
DTEND;TZID=America/New_York:20300428T083000
DTSTAMP:20260422T082042
CREATED:20260320T185150Z
LAST-MODIFIED:20260320T185844Z
UID:10010990-1903590900-1903595400@giocondayoga.com
SUMMARY:7:15-8:30am Somatic Flow and Sound @Black Swan Anderson
DESCRIPTION:Somatic Flow & Sound:Move\, build\, release. This class guides you through an intentional arc of fluid\, breath-driven movement designed to wake up sensation and bring you fully into your body. After the flow\, settle into stillness and drop into a sound bath to integrate and reset.
URL:https://giocondayoga.com/event/715-830am-somatic-flow-and-sound-black-swan-anderson/2030-04-28/
LOCATION:Black Swan Anderson\, 1417 West Anderson Lane\, Austin\, Texas\, 78757
CATEGORIES:Classes
ATTACH;FMTTYPE=image/jpeg:https://giocondayoga.com/wp-content/uploads/2024/03/About-Gia-Resized-1.jpg
END:VEVENT
BEGIN:VEVENT
DTSTART;TZID=America/New_York:20300505T071500
DTEND;TZID=America/New_York:20300505T083000
DTSTAMP:20260422T082042
CREATED:20260320T185150Z
LAST-MODIFIED:20260320T185844Z
UID:10010991-1904195700-1904200200@giocondayoga.com
SUMMARY:7:15-8:30am Somatic Flow and Sound @Black Swan Anderson
DESCRIPTION:Somatic Flow & Sound:Move\, build\, release. This class guides you through an intentional arc of fluid\, breath-driven movement designed to wake up sensation and bring you fully into your body. After the flow\, settle into stillness and drop into a sound bath to integrate and reset.
URL:https://giocondayoga.com/event/715-830am-somatic-flow-and-sound-black-swan-anderson/2030-05-05/
LOCATION:Black Swan Anderson\, 1417 West Anderson Lane\, Austin\, Texas\, 78757
CATEGORIES:Classes
ATTACH;FMTTYPE=image/jpeg:https://giocondayoga.com/wp-content/uploads/2024/03/About-Gia-Resized-1.jpg
END:VEVENT
BEGIN:VEVENT
DTSTART;TZID=America/New_York:20300512T071500
DTEND;TZID=America/New_York:20300512T083000
DTSTAMP:20260422T082042
CREATED:20260320T185150Z
LAST-MODIFIED:20260320T185844Z
UID:10010992-1904800500-1904805000@giocondayoga.com
SUMMARY:7:15-8:30am Somatic Flow and Sound @Black Swan Anderson
DESCRIPTION:Somatic Flow & Sound:Move\, build\, release. This class guides you through an intentional arc of fluid\, breath-driven movement designed to wake up sensation and bring you fully into your body. After the flow\, settle into stillness and drop into a sound bath to integrate and reset.
URL:https://giocondayoga.com/event/715-830am-somatic-flow-and-sound-black-swan-anderson/2030-05-12/
LOCATION:Black Swan Anderson\, 1417 West Anderson Lane\, Austin\, Texas\, 78757
CATEGORIES:Classes
ATTACH;FMTTYPE=image/jpeg:https://giocondayoga.com/wp-content/uploads/2024/03/About-Gia-Resized-1.jpg
END:VEVENT
BEGIN:VEVENT
DTSTART;TZID=America/New_York:20300519T071500
DTEND;TZID=America/New_York:20300519T083000
DTSTAMP:20260422T082042
CREATED:20260320T185150Z
LAST-MODIFIED:20260320T185844Z
UID:10010993-1905405300-1905409800@giocondayoga.com
SUMMARY:7:15-8:30am Somatic Flow and Sound @Black Swan Anderson
DESCRIPTION:Somatic Flow & Sound:Move\, build\, release. This class guides you through an intentional arc of fluid\, breath-driven movement designed to wake up sensation and bring you fully into your body. After the flow\, settle into stillness and drop into a sound bath to integrate and reset.
URL:https://giocondayoga.com/event/715-830am-somatic-flow-and-sound-black-swan-anderson/2030-05-19/
LOCATION:Black Swan Anderson\, 1417 West Anderson Lane\, Austin\, Texas\, 78757
CATEGORIES:Classes
ATTACH;FMTTYPE=image/jpeg:https://giocondayoga.com/wp-content/uploads/2024/03/About-Gia-Resized-1.jpg
END:VEVENT
BEGIN:VEVENT
DTSTART;TZID=America/New_York:20300526T071500
DTEND;TZID=America/New_York:20300526T083000
DTSTAMP:20260422T082042
CREATED:20260320T185150Z
LAST-MODIFIED:20260320T185844Z
UID:10010994-1906010100-1906014600@giocondayoga.com
SUMMARY:7:15-8:30am Somatic Flow and Sound @Black Swan Anderson
DESCRIPTION:Somatic Flow & Sound:Move\, build\, release. This class guides you through an intentional arc of fluid\, breath-driven movement designed to wake up sensation and bring you fully into your body. After the flow\, settle into stillness and drop into a sound bath to integrate and reset.
URL:https://giocondayoga.com/event/715-830am-somatic-flow-and-sound-black-swan-anderson/2030-05-26/
LOCATION:Black Swan Anderson\, 1417 West Anderson Lane\, Austin\, Texas\, 78757
CATEGORIES:Classes
ATTACH;FMTTYPE=image/jpeg:https://giocondayoga.com/wp-content/uploads/2024/03/About-Gia-Resized-1.jpg
END:VEVENT
BEGIN:VEVENT
DTSTART;TZID=America/New_York:20300602T071500
DTEND;TZID=America/New_York:20300602T083000
DTSTAMP:20260422T082042
CREATED:20260320T185150Z
LAST-MODIFIED:20260320T185844Z
UID:10010995-1906614900-1906619400@giocondayoga.com
SUMMARY:7:15-8:30am Somatic Flow and Sound @Black Swan Anderson
DESCRIPTION:Somatic Flow & Sound:Move\, build\, release. This class guides you through an intentional arc of fluid\, breath-driven movement designed to wake up sensation and bring you fully into your body. After the flow\, settle into stillness and drop into a sound bath to integrate and reset.
URL:https://giocondayoga.com/event/715-830am-somatic-flow-and-sound-black-swan-anderson/2030-06-02/
LOCATION:Black Swan Anderson\, 1417 West Anderson Lane\, Austin\, Texas\, 78757
CATEGORIES:Classes
ATTACH;FMTTYPE=image/jpeg:https://giocondayoga.com/wp-content/uploads/2024/03/About-Gia-Resized-1.jpg
END:VEVENT
BEGIN:VEVENT
DTSTART;TZID=America/New_York:20300609T071500
DTEND;TZID=America/New_York:20300609T083000
DTSTAMP:20260422T082042
CREATED:20260320T185150Z
LAST-MODIFIED:20260320T185844Z
UID:10010996-1907219700-1907224200@giocondayoga.com
SUMMARY:7:15-8:30am Somatic Flow and Sound @Black Swan Anderson
DESCRIPTION:Somatic Flow & Sound:Move\, build\, release. This class guides you through an intentional arc of fluid\, breath-driven movement designed to wake up sensation and bring you fully into your body. After the flow\, settle into stillness and drop into a sound bath to integrate and reset.
URL:https://giocondayoga.com/event/715-830am-somatic-flow-and-sound-black-swan-anderson/2030-06-09/
LOCATION:Black Swan Anderson\, 1417 West Anderson Lane\, Austin\, Texas\, 78757
CATEGORIES:Classes
ATTACH;FMTTYPE=image/jpeg:https://giocondayoga.com/wp-content/uploads/2024/03/About-Gia-Resized-1.jpg
END:VEVENT
BEGIN:VEVENT
DTSTART;TZID=America/New_York:20300616T071500
DTEND;TZID=America/New_York:20300616T083000
DTSTAMP:20260422T082042
CREATED:20260320T185150Z
LAST-MODIFIED:20260320T185844Z
UID:10010997-1907824500-1907829000@giocondayoga.com
SUMMARY:7:15-8:30am Somatic Flow and Sound @Black Swan Anderson
DESCRIPTION:Somatic Flow & Sound:Move\, build\, release. This class guides you through an intentional arc of fluid\, breath-driven movement designed to wake up sensation and bring you fully into your body. After the flow\, settle into stillness and drop into a sound bath to integrate and reset.
URL:https://giocondayoga.com/event/715-830am-somatic-flow-and-sound-black-swan-anderson/2030-06-16/
LOCATION:Black Swan Anderson\, 1417 West Anderson Lane\, Austin\, Texas\, 78757
CATEGORIES:Classes
ATTACH;FMTTYPE=image/jpeg:https://giocondayoga.com/wp-content/uploads/2024/03/About-Gia-Resized-1.jpg
END:VEVENT
BEGIN:VEVENT
DTSTART;TZID=America/New_York:20300623T071500
DTEND;TZID=America/New_York:20300623T083000
DTSTAMP:20260422T082042
CREATED:20260320T185150Z
LAST-MODIFIED:20260320T185844Z
UID:10010998-1908429300-1908433800@giocondayoga.com
SUMMARY:7:15-8:30am Somatic Flow and Sound @Black Swan Anderson
DESCRIPTION:Somatic Flow & Sound:Move\, build\, release. This class guides you through an intentional arc of fluid\, breath-driven movement designed to wake up sensation and bring you fully into your body. After the flow\, settle into stillness and drop into a sound bath to integrate and reset.
URL:https://giocondayoga.com/event/715-830am-somatic-flow-and-sound-black-swan-anderson/2030-06-23/
LOCATION:Black Swan Anderson\, 1417 West Anderson Lane\, Austin\, Texas\, 78757
CATEGORIES:Classes
ATTACH;FMTTYPE=image/jpeg:https://giocondayoga.com/wp-content/uploads/2024/03/About-Gia-Resized-1.jpg
END:VEVENT
BEGIN:VEVENT
DTSTART;TZID=America/New_York:20300630T071500
DTEND;TZID=America/New_York:20300630T083000
DTSTAMP:20260422T082043
CREATED:20260320T185150Z
LAST-MODIFIED:20260320T185844Z
UID:10010999-1909034100-1909038600@giocondayoga.com
SUMMARY:7:15-8:30am Somatic Flow and Sound @Black Swan Anderson
DESCRIPTION:Somatic Flow & Sound:Move\, build\, release. This class guides you through an intentional arc of fluid\, breath-driven movement designed to wake up sensation and bring you fully into your body. After the flow\, settle into stillness and drop into a sound bath to integrate and reset.
URL:https://giocondayoga.com/event/715-830am-somatic-flow-and-sound-black-swan-anderson/2030-06-30/
LOCATION:Black Swan Anderson\, 1417 West Anderson Lane\, Austin\, Texas\, 78757
CATEGORIES:Classes
ATTACH;FMTTYPE=image/jpeg:https://giocondayoga.com/wp-content/uploads/2024/03/About-Gia-Resized-1.jpg
END:VEVENT
BEGIN:VEVENT
DTSTART;TZID=America/New_York:20300707T071500
DTEND;TZID=America/New_York:20300707T083000
DTSTAMP:20260422T082043
CREATED:20260320T185150Z
LAST-MODIFIED:20260320T185844Z
UID:10011000-1909638900-1909643400@giocondayoga.com
SUMMARY:7:15-8:30am Somatic Flow and Sound @Black Swan Anderson
DESCRIPTION:Somatic Flow & Sound:Move\, build\, release. This class guides you through an intentional arc of fluid\, breath-driven movement designed to wake up sensation and bring you fully into your body. After the flow\, settle into stillness and drop into a sound bath to integrate and reset.
URL:https://giocondayoga.com/event/715-830am-somatic-flow-and-sound-black-swan-anderson/2030-07-07/
LOCATION:Black Swan Anderson\, 1417 West Anderson Lane\, Austin\, Texas\, 78757
CATEGORIES:Classes
ATTACH;FMTTYPE=image/jpeg:https://giocondayoga.com/wp-content/uploads/2024/03/About-Gia-Resized-1.jpg
END:VEVENT
BEGIN:VEVENT
DTSTART;TZID=America/New_York:20300714T071500
DTEND;TZID=America/New_York:20300714T083000
DTSTAMP:20260422T082043
CREATED:20260320T185150Z
LAST-MODIFIED:20260320T185844Z
UID:10011001-1910243700-1910248200@giocondayoga.com
SUMMARY:7:15-8:30am Somatic Flow and Sound @Black Swan Anderson
DESCRIPTION:Somatic Flow & Sound:Move\, build\, release. This class guides you through an intentional arc of fluid\, breath-driven movement designed to wake up sensation and bring you fully into your body. After the flow\, settle into stillness and drop into a sound bath to integrate and reset.
URL:https://giocondayoga.com/event/715-830am-somatic-flow-and-sound-black-swan-anderson/2030-07-14/
LOCATION:Black Swan Anderson\, 1417 West Anderson Lane\, Austin\, Texas\, 78757
CATEGORIES:Classes
ATTACH;FMTTYPE=image/jpeg:https://giocondayoga.com/wp-content/uploads/2024/03/About-Gia-Resized-1.jpg
END:VEVENT
BEGIN:VEVENT
DTSTART;TZID=America/New_York:20300721T071500
DTEND;TZID=America/New_York:20300721T083000
DTSTAMP:20260422T082043
CREATED:20260320T185150Z
LAST-MODIFIED:20260320T185844Z
UID:10011002-1910848500-1910853000@giocondayoga.com
SUMMARY:7:15-8:30am Somatic Flow and Sound @Black Swan Anderson
DESCRIPTION:Somatic Flow & Sound:Move\, build\, release. This class guides you through an intentional arc of fluid\, breath-driven movement designed to wake up sensation and bring you fully into your body. After the flow\, settle into stillness and drop into a sound bath to integrate and reset.
URL:https://giocondayoga.com/event/715-830am-somatic-flow-and-sound-black-swan-anderson/2030-07-21/
LOCATION:Black Swan Anderson\, 1417 West Anderson Lane\, Austin\, Texas\, 78757
CATEGORIES:Classes
ATTACH;FMTTYPE=image/jpeg:https://giocondayoga.com/wp-content/uploads/2024/03/About-Gia-Resized-1.jpg
END:VEVENT
BEGIN:VEVENT
DTSTART;TZID=America/New_York:20300728T071500
DTEND;TZID=America/New_York:20300728T083000
DTSTAMP:20260422T082043
CREATED:20260320T185150Z
LAST-MODIFIED:20260320T185844Z
UID:10011003-1911453300-1911457800@giocondayoga.com
SUMMARY:7:15-8:30am Somatic Flow and Sound @Black Swan Anderson
DESCRIPTION:Somatic Flow & Sound:Move\, build\, release. This class guides you through an intentional arc of fluid\, breath-driven movement designed to wake up sensation and bring you fully into your body. After the flow\, settle into stillness and drop into a sound bath to integrate and reset.
URL:https://giocondayoga.com/event/715-830am-somatic-flow-and-sound-black-swan-anderson/2030-07-28/
LOCATION:Black Swan Anderson\, 1417 West Anderson Lane\, Austin\, Texas\, 78757
CATEGORIES:Classes
ATTACH;FMTTYPE=image/jpeg:https://giocondayoga.com/wp-content/uploads/2024/03/About-Gia-Resized-1.jpg
END:VEVENT
BEGIN:VEVENT
DTSTART;TZID=America/New_York:20300804T071500
DTEND;TZID=America/New_York:20300804T083000
DTSTAMP:20260422T082043
CREATED:20260320T185150Z
LAST-MODIFIED:20260320T185844Z
UID:10011004-1912058100-1912062600@giocondayoga.com
SUMMARY:7:15-8:30am Somatic Flow and Sound @Black Swan Anderson
DESCRIPTION:Somatic Flow & Sound:Move\, build\, release. This class guides you through an intentional arc of fluid\, breath-driven movement designed to wake up sensation and bring you fully into your body. After the flow\, settle into stillness and drop into a sound bath to integrate and reset.
URL:https://giocondayoga.com/event/715-830am-somatic-flow-and-sound-black-swan-anderson/2030-08-04/
LOCATION:Black Swan Anderson\, 1417 West Anderson Lane\, Austin\, Texas\, 78757
CATEGORIES:Classes
ATTACH;FMTTYPE=image/jpeg:https://giocondayoga.com/wp-content/uploads/2024/03/About-Gia-Resized-1.jpg
END:VEVENT
BEGIN:VEVENT
DTSTART;TZID=America/New_York:20300811T071500
DTEND;TZID=America/New_York:20300811T083000
DTSTAMP:20260422T082043
CREATED:20260320T185150Z
LAST-MODIFIED:20260320T185844Z
UID:10011005-1912662900-1912667400@giocondayoga.com
SUMMARY:7:15-8:30am Somatic Flow and Sound @Black Swan Anderson
DESCRIPTION:Somatic Flow & Sound:Move\, build\, release. This class guides you through an intentional arc of fluid\, breath-driven movement designed to wake up sensation and bring you fully into your body. After the flow\, settle into stillness and drop into a sound bath to integrate and reset.
URL:https://giocondayoga.com/event/715-830am-somatic-flow-and-sound-black-swan-anderson/2030-08-11/
LOCATION:Black Swan Anderson\, 1417 West Anderson Lane\, Austin\, Texas\, 78757
CATEGORIES:Classes
ATTACH;FMTTYPE=image/jpeg:https://giocondayoga.com/wp-content/uploads/2024/03/About-Gia-Resized-1.jpg
END:VEVENT
BEGIN:VEVENT
DTSTART;TZID=America/New_York:20300818T071500
DTEND;TZID=America/New_York:20300818T083000
DTSTAMP:20260422T082043
CREATED:20260320T185150Z
LAST-MODIFIED:20260320T185844Z
UID:10011006-1913267700-1913272200@giocondayoga.com
SUMMARY:7:15-8:30am Somatic Flow and Sound @Black Swan Anderson
DESCRIPTION:Somatic Flow & Sound:Move\, build\, release. This class guides you through an intentional arc of fluid\, breath-driven movement designed to wake up sensation and bring you fully into your body. After the flow\, settle into stillness and drop into a sound bath to integrate and reset.
URL:https://giocondayoga.com/event/715-830am-somatic-flow-and-sound-black-swan-anderson/2030-08-18/
LOCATION:Black Swan Anderson\, 1417 West Anderson Lane\, Austin\, Texas\, 78757
CATEGORIES:Classes
ATTACH;FMTTYPE=image/jpeg:https://giocondayoga.com/wp-content/uploads/2024/03/About-Gia-Resized-1.jpg
END:VEVENT
BEGIN:VEVENT
DTSTART;TZID=America/New_York:20300825T071500
DTEND;TZID=America/New_York:20300825T083000
DTSTAMP:20260422T082043
CREATED:20260320T185150Z
LAST-MODIFIED:20260320T185844Z
UID:10011007-1913872500-1913877000@giocondayoga.com
SUMMARY:7:15-8:30am Somatic Flow and Sound @Black Swan Anderson
DESCRIPTION:Somatic Flow & Sound:Move\, build\, release. This class guides you through an intentional arc of fluid\, breath-driven movement designed to wake up sensation and bring you fully into your body. After the flow\, settle into stillness and drop into a sound bath to integrate and reset.
URL:https://giocondayoga.com/event/715-830am-somatic-flow-and-sound-black-swan-anderson/2030-08-25/
LOCATION:Black Swan Anderson\, 1417 West Anderson Lane\, Austin\, Texas\, 78757
CATEGORIES:Classes
ATTACH;FMTTYPE=image/jpeg:https://giocondayoga.com/wp-content/uploads/2024/03/About-Gia-Resized-1.jpg
END:VEVENT
BEGIN:VEVENT
DTSTART;TZID=America/New_York:20300901T071500
DTEND;TZID=America/New_York:20300901T083000
DTSTAMP:20260422T082043
CREATED:20260320T185150Z
LAST-MODIFIED:20260320T185844Z
UID:10011008-1914477300-1914481800@giocondayoga.com
SUMMARY:7:15-8:30am Somatic Flow and Sound @Black Swan Anderson
DESCRIPTION:Somatic Flow & Sound:Move\, build\, release. This class guides you through an intentional arc of fluid\, breath-driven movement designed to wake up sensation and bring you fully into your body. After the flow\, settle into stillness and drop into a sound bath to integrate and reset.
URL:https://giocondayoga.com/event/715-830am-somatic-flow-and-sound-black-swan-anderson/2030-09-01/
LOCATION:Black Swan Anderson\, 1417 West Anderson Lane\, Austin\, Texas\, 78757
CATEGORIES:Classes
ATTACH;FMTTYPE=image/jpeg:https://giocondayoga.com/wp-content/uploads/2024/03/About-Gia-Resized-1.jpg
END:VEVENT
BEGIN:VEVENT
DTSTART;TZID=America/New_York:20300908T071500
DTEND;TZID=America/New_York:20300908T083000
DTSTAMP:20260422T082043
CREATED:20260320T185150Z
LAST-MODIFIED:20260320T185844Z
UID:10011009-1915082100-1915086600@giocondayoga.com
SUMMARY:7:15-8:30am Somatic Flow and Sound @Black Swan Anderson
DESCRIPTION:Somatic Flow & Sound:Move\, build\, release. This class guides you through an intentional arc of fluid\, breath-driven movement designed to wake up sensation and bring you fully into your body. After the flow\, settle into stillness and drop into a sound bath to integrate and reset.
URL:https://giocondayoga.com/event/715-830am-somatic-flow-and-sound-black-swan-anderson/2030-09-08/
LOCATION:Black Swan Anderson\, 1417 West Anderson Lane\, Austin\, Texas\, 78757
CATEGORIES:Classes
ATTACH;FMTTYPE=image/jpeg:https://giocondayoga.com/wp-content/uploads/2024/03/About-Gia-Resized-1.jpg
END:VEVENT
BEGIN:VEVENT
DTSTART;TZID=America/New_York:20300915T071500
DTEND;TZID=America/New_York:20300915T083000
DTSTAMP:20260422T082043
CREATED:20260320T185150Z
LAST-MODIFIED:20260320T185844Z
UID:10011010-1915686900-1915691400@giocondayoga.com
SUMMARY:7:15-8:30am Somatic Flow and Sound @Black Swan Anderson
DESCRIPTION:Somatic Flow & Sound:Move\, build\, release. This class guides you through an intentional arc of fluid\, breath-driven movement designed to wake up sensation and bring you fully into your body. After the flow\, settle into stillness and drop into a sound bath to integrate and reset.
URL:https://giocondayoga.com/event/715-830am-somatic-flow-and-sound-black-swan-anderson/2030-09-15/
LOCATION:Black Swan Anderson\, 1417 West Anderson Lane\, Austin\, Texas\, 78757
CATEGORIES:Classes
ATTACH;FMTTYPE=image/jpeg:https://giocondayoga.com/wp-content/uploads/2024/03/About-Gia-Resized-1.jpg
END:VEVENT
END:VCALENDAR