BEGIN:VCALENDAR
VERSION:2.0
PRODID:-//Gioconda Yoga - ECPv6.15.20//NONSGML v1.0//EN
CALSCALE:GREGORIAN
METHOD:PUBLISH
X-ORIGINAL-URL:https://giocondayoga.com
X-WR-CALDESC:Events for Gioconda Yoga
REFRESH-INTERVAL;VALUE=DURATION:PT1H
X-Robots-Tag:noindex
X-PUBLISHED-TTL:PT1H
BEGIN:VTIMEZONE
TZID:America/New_York
BEGIN:DAYLIGHT
TZOFFSETFROM:-0500
TZOFFSETTO:-0400
TZNAME:EDT
DTSTART:20280312T070000
END:DAYLIGHT
BEGIN:STANDARD
TZOFFSETFROM:-0400
TZOFFSETTO:-0500
TZNAME:EST
DTSTART:20281105T060000
END:STANDARD
BEGIN:DAYLIGHT
TZOFFSETFROM:-0500
TZOFFSETTO:-0400
TZNAME:EDT
DTSTART:20290311T070000
END:DAYLIGHT
BEGIN:STANDARD
TZOFFSETFROM:-0400
TZOFFSETTO:-0500
TZNAME:EST
DTSTART:20291104T060000
END:STANDARD
BEGIN:DAYLIGHT
TZOFFSETFROM:-0500
TZOFFSETTO:-0400
TZNAME:EDT
DTSTART:20300310T070000
END:DAYLIGHT
BEGIN:STANDARD
TZOFFSETFROM:-0400
TZOFFSETTO:-0500
TZNAME:EST
DTSTART:20301103T060000
END:STANDARD
BEGIN:DAYLIGHT
TZOFFSETFROM:-0500
TZOFFSETTO:-0400
TZNAME:EDT
DTSTART:20310309T070000
END:DAYLIGHT
BEGIN:STANDARD
TZOFFSETFROM:-0400
TZOFFSETTO:-0500
TZNAME:EST
DTSTART:20311102T060000
END:STANDARD
END:VTIMEZONE
BEGIN:VEVENT
DTSTART;TZID=America/New_York:20291007T071500
DTEND;TZID=America/New_York:20291007T083000
DTSTAMP:20260421T155555
CREATED:20260320T185150Z
LAST-MODIFIED:20260320T185844Z
UID:10010961-1886051700-1886056200@giocondayoga.com
SUMMARY:7:15-8:30am Somatic Flow and Sound @Black Swan Anderson
DESCRIPTION:Somatic Flow & Sound:Move\, build\, release. This class guides you through an intentional arc of fluid\, breath-driven movement designed to wake up sensation and bring you fully into your body. After the flow\, settle into stillness and drop into a sound bath to integrate and reset.
URL:https://giocondayoga.com/event/715-830am-somatic-flow-and-sound-black-swan-anderson/2029-10-07/
LOCATION:Black Swan Anderson\, 1417 West Anderson Lane\, Austin\, Texas\, 78757
CATEGORIES:Classes
ATTACH;FMTTYPE=image/jpeg:https://giocondayoga.com/wp-content/uploads/2024/03/About-Gia-Resized-1.jpg
END:VEVENT
BEGIN:VEVENT
DTSTART;TZID=America/New_York:20291014T071500
DTEND;TZID=America/New_York:20291014T083000
DTSTAMP:20260421T155555
CREATED:20260320T185150Z
LAST-MODIFIED:20260320T185844Z
UID:10010962-1886656500-1886661000@giocondayoga.com
SUMMARY:7:15-8:30am Somatic Flow and Sound @Black Swan Anderson
DESCRIPTION:Somatic Flow & Sound:Move\, build\, release. This class guides you through an intentional arc of fluid\, breath-driven movement designed to wake up sensation and bring you fully into your body. After the flow\, settle into stillness and drop into a sound bath to integrate and reset.
URL:https://giocondayoga.com/event/715-830am-somatic-flow-and-sound-black-swan-anderson/2029-10-14/
LOCATION:Black Swan Anderson\, 1417 West Anderson Lane\, Austin\, Texas\, 78757
CATEGORIES:Classes
ATTACH;FMTTYPE=image/jpeg:https://giocondayoga.com/wp-content/uploads/2024/03/About-Gia-Resized-1.jpg
END:VEVENT
BEGIN:VEVENT
DTSTART;TZID=America/New_York:20291021T071500
DTEND;TZID=America/New_York:20291021T083000
DTSTAMP:20260421T155555
CREATED:20260320T185150Z
LAST-MODIFIED:20260320T185844Z
UID:10010963-1887261300-1887265800@giocondayoga.com
SUMMARY:7:15-8:30am Somatic Flow and Sound @Black Swan Anderson
DESCRIPTION:Somatic Flow & Sound:Move\, build\, release. This class guides you through an intentional arc of fluid\, breath-driven movement designed to wake up sensation and bring you fully into your body. After the flow\, settle into stillness and drop into a sound bath to integrate and reset.
URL:https://giocondayoga.com/event/715-830am-somatic-flow-and-sound-black-swan-anderson/2029-10-21/
LOCATION:Black Swan Anderson\, 1417 West Anderson Lane\, Austin\, Texas\, 78757
CATEGORIES:Classes
ATTACH;FMTTYPE=image/jpeg:https://giocondayoga.com/wp-content/uploads/2024/03/About-Gia-Resized-1.jpg
END:VEVENT
BEGIN:VEVENT
DTSTART;TZID=America/New_York:20291028T071500
DTEND;TZID=America/New_York:20291028T083000
DTSTAMP:20260421T155555
CREATED:20260320T185150Z
LAST-MODIFIED:20260320T185844Z
UID:10010964-1887866100-1887870600@giocondayoga.com
SUMMARY:7:15-8:30am Somatic Flow and Sound @Black Swan Anderson
DESCRIPTION:Somatic Flow & Sound:Move\, build\, release. This class guides you through an intentional arc of fluid\, breath-driven movement designed to wake up sensation and bring you fully into your body. After the flow\, settle into stillness and drop into a sound bath to integrate and reset.
URL:https://giocondayoga.com/event/715-830am-somatic-flow-and-sound-black-swan-anderson/2029-10-28/
LOCATION:Black Swan Anderson\, 1417 West Anderson Lane\, Austin\, Texas\, 78757
CATEGORIES:Classes
ATTACH;FMTTYPE=image/jpeg:https://giocondayoga.com/wp-content/uploads/2024/03/About-Gia-Resized-1.jpg
END:VEVENT
BEGIN:VEVENT
DTSTART;TZID=America/New_York:20291104T071500
DTEND;TZID=America/New_York:20291104T083000
DTSTAMP:20260421T155555
CREATED:20260320T185150Z
LAST-MODIFIED:20260320T185844Z
UID:10010965-1888470900-1888475400@giocondayoga.com
SUMMARY:7:15-8:30am Somatic Flow and Sound @Black Swan Anderson
DESCRIPTION:Somatic Flow & Sound:Move\, build\, release. This class guides you through an intentional arc of fluid\, breath-driven movement designed to wake up sensation and bring you fully into your body. After the flow\, settle into stillness and drop into a sound bath to integrate and reset.
URL:https://giocondayoga.com/event/715-830am-somatic-flow-and-sound-black-swan-anderson/2029-11-04/
LOCATION:Black Swan Anderson\, 1417 West Anderson Lane\, Austin\, Texas\, 78757
CATEGORIES:Classes
ATTACH;FMTTYPE=image/jpeg:https://giocondayoga.com/wp-content/uploads/2024/03/About-Gia-Resized-1.jpg
END:VEVENT
BEGIN:VEVENT
DTSTART;TZID=America/New_York:20291111T071500
DTEND;TZID=America/New_York:20291111T083000
DTSTAMP:20260421T155555
CREATED:20260320T185150Z
LAST-MODIFIED:20260320T185844Z
UID:10010966-1889075700-1889080200@giocondayoga.com
SUMMARY:7:15-8:30am Somatic Flow and Sound @Black Swan Anderson
DESCRIPTION:Somatic Flow & Sound:Move\, build\, release. This class guides you through an intentional arc of fluid\, breath-driven movement designed to wake up sensation and bring you fully into your body. After the flow\, settle into stillness and drop into a sound bath to integrate and reset.
URL:https://giocondayoga.com/event/715-830am-somatic-flow-and-sound-black-swan-anderson/2029-11-11/
LOCATION:Black Swan Anderson\, 1417 West Anderson Lane\, Austin\, Texas\, 78757
CATEGORIES:Classes
ATTACH;FMTTYPE=image/jpeg:https://giocondayoga.com/wp-content/uploads/2024/03/About-Gia-Resized-1.jpg
END:VEVENT
BEGIN:VEVENT
DTSTART;TZID=America/New_York:20291118T071500
DTEND;TZID=America/New_York:20291118T083000
DTSTAMP:20260421T155555
CREATED:20260320T185150Z
LAST-MODIFIED:20260320T185844Z
UID:10010967-1889680500-1889685000@giocondayoga.com
SUMMARY:7:15-8:30am Somatic Flow and Sound @Black Swan Anderson
DESCRIPTION:Somatic Flow & Sound:Move\, build\, release. This class guides you through an intentional arc of fluid\, breath-driven movement designed to wake up sensation and bring you fully into your body. After the flow\, settle into stillness and drop into a sound bath to integrate and reset.
URL:https://giocondayoga.com/event/715-830am-somatic-flow-and-sound-black-swan-anderson/2029-11-18/
LOCATION:Black Swan Anderson\, 1417 West Anderson Lane\, Austin\, Texas\, 78757
CATEGORIES:Classes
ATTACH;FMTTYPE=image/jpeg:https://giocondayoga.com/wp-content/uploads/2024/03/About-Gia-Resized-1.jpg
END:VEVENT
BEGIN:VEVENT
DTSTART;TZID=America/New_York:20291125T071500
DTEND;TZID=America/New_York:20291125T083000
DTSTAMP:20260421T155555
CREATED:20260320T185150Z
LAST-MODIFIED:20260320T185844Z
UID:10010968-1890285300-1890289800@giocondayoga.com
SUMMARY:7:15-8:30am Somatic Flow and Sound @Black Swan Anderson
DESCRIPTION:Somatic Flow & Sound:Move\, build\, release. This class guides you through an intentional arc of fluid\, breath-driven movement designed to wake up sensation and bring you fully into your body. After the flow\, settle into stillness and drop into a sound bath to integrate and reset.
URL:https://giocondayoga.com/event/715-830am-somatic-flow-and-sound-black-swan-anderson/2029-11-25/
LOCATION:Black Swan Anderson\, 1417 West Anderson Lane\, Austin\, Texas\, 78757
CATEGORIES:Classes
ATTACH;FMTTYPE=image/jpeg:https://giocondayoga.com/wp-content/uploads/2024/03/About-Gia-Resized-1.jpg
END:VEVENT
BEGIN:VEVENT
DTSTART;TZID=America/New_York:20291202T071500
DTEND;TZID=America/New_York:20291202T083000
DTSTAMP:20260421T155555
CREATED:20260320T185150Z
LAST-MODIFIED:20260320T185844Z
UID:10010969-1890890100-1890894600@giocondayoga.com
SUMMARY:7:15-8:30am Somatic Flow and Sound @Black Swan Anderson
DESCRIPTION:Somatic Flow & Sound:Move\, build\, release. This class guides you through an intentional arc of fluid\, breath-driven movement designed to wake up sensation and bring you fully into your body. After the flow\, settle into stillness and drop into a sound bath to integrate and reset.
URL:https://giocondayoga.com/event/715-830am-somatic-flow-and-sound-black-swan-anderson/2029-12-02/
LOCATION:Black Swan Anderson\, 1417 West Anderson Lane\, Austin\, Texas\, 78757
CATEGORIES:Classes
ATTACH;FMTTYPE=image/jpeg:https://giocondayoga.com/wp-content/uploads/2024/03/About-Gia-Resized-1.jpg
END:VEVENT
BEGIN:VEVENT
DTSTART;TZID=America/New_York:20291209T071500
DTEND;TZID=America/New_York:20291209T083000
DTSTAMP:20260421T155555
CREATED:20260320T185150Z
LAST-MODIFIED:20260320T185844Z
UID:10010970-1891494900-1891499400@giocondayoga.com
SUMMARY:7:15-8:30am Somatic Flow and Sound @Black Swan Anderson
DESCRIPTION:Somatic Flow & Sound:Move\, build\, release. This class guides you through an intentional arc of fluid\, breath-driven movement designed to wake up sensation and bring you fully into your body. After the flow\, settle into stillness and drop into a sound bath to integrate and reset.
URL:https://giocondayoga.com/event/715-830am-somatic-flow-and-sound-black-swan-anderson/2029-12-09/
LOCATION:Black Swan Anderson\, 1417 West Anderson Lane\, Austin\, Texas\, 78757
CATEGORIES:Classes
ATTACH;FMTTYPE=image/jpeg:https://giocondayoga.com/wp-content/uploads/2024/03/About-Gia-Resized-1.jpg
END:VEVENT
BEGIN:VEVENT
DTSTART;TZID=America/New_York:20291216T071500
DTEND;TZID=America/New_York:20291216T083000
DTSTAMP:20260421T155555
CREATED:20260320T185150Z
LAST-MODIFIED:20260320T185844Z
UID:10010971-1892099700-1892104200@giocondayoga.com
SUMMARY:7:15-8:30am Somatic Flow and Sound @Black Swan Anderson
DESCRIPTION:Somatic Flow & Sound:Move\, build\, release. This class guides you through an intentional arc of fluid\, breath-driven movement designed to wake up sensation and bring you fully into your body. After the flow\, settle into stillness and drop into a sound bath to integrate and reset.
URL:https://giocondayoga.com/event/715-830am-somatic-flow-and-sound-black-swan-anderson/2029-12-16/
LOCATION:Black Swan Anderson\, 1417 West Anderson Lane\, Austin\, Texas\, 78757
CATEGORIES:Classes
ATTACH;FMTTYPE=image/jpeg:https://giocondayoga.com/wp-content/uploads/2024/03/About-Gia-Resized-1.jpg
END:VEVENT
BEGIN:VEVENT
DTSTART;TZID=America/New_York:20291223T071500
DTEND;TZID=America/New_York:20291223T083000
DTSTAMP:20260421T155555
CREATED:20260320T185150Z
LAST-MODIFIED:20260320T185844Z
UID:10010972-1892704500-1892709000@giocondayoga.com
SUMMARY:7:15-8:30am Somatic Flow and Sound @Black Swan Anderson
DESCRIPTION:Somatic Flow & Sound:Move\, build\, release. This class guides you through an intentional arc of fluid\, breath-driven movement designed to wake up sensation and bring you fully into your body. After the flow\, settle into stillness and drop into a sound bath to integrate and reset.
URL:https://giocondayoga.com/event/715-830am-somatic-flow-and-sound-black-swan-anderson/2029-12-23/
LOCATION:Black Swan Anderson\, 1417 West Anderson Lane\, Austin\, Texas\, 78757
CATEGORIES:Classes
ATTACH;FMTTYPE=image/jpeg:https://giocondayoga.com/wp-content/uploads/2024/03/About-Gia-Resized-1.jpg
END:VEVENT
BEGIN:VEVENT
DTSTART;TZID=America/New_York:20291230T071500
DTEND;TZID=America/New_York:20291230T083000
DTSTAMP:20260421T155555
CREATED:20260320T185150Z
LAST-MODIFIED:20260320T185844Z
UID:10010973-1893309300-1893313800@giocondayoga.com
SUMMARY:7:15-8:30am Somatic Flow and Sound @Black Swan Anderson
DESCRIPTION:Somatic Flow & Sound:Move\, build\, release. This class guides you through an intentional arc of fluid\, breath-driven movement designed to wake up sensation and bring you fully into your body. After the flow\, settle into stillness and drop into a sound bath to integrate and reset.
URL:https://giocondayoga.com/event/715-830am-somatic-flow-and-sound-black-swan-anderson/2029-12-30/
LOCATION:Black Swan Anderson\, 1417 West Anderson Lane\, Austin\, Texas\, 78757
CATEGORIES:Classes
ATTACH;FMTTYPE=image/jpeg:https://giocondayoga.com/wp-content/uploads/2024/03/About-Gia-Resized-1.jpg
END:VEVENT
BEGIN:VEVENT
DTSTART;TZID=America/New_York:20300106T071500
DTEND;TZID=America/New_York:20300106T083000
DTSTAMP:20260421T155555
CREATED:20260320T185150Z
LAST-MODIFIED:20260320T185844Z
UID:10010974-1893914100-1893918600@giocondayoga.com
SUMMARY:7:15-8:30am Somatic Flow and Sound @Black Swan Anderson
DESCRIPTION:Somatic Flow & Sound:Move\, build\, release. This class guides you through an intentional arc of fluid\, breath-driven movement designed to wake up sensation and bring you fully into your body. After the flow\, settle into stillness and drop into a sound bath to integrate and reset.
URL:https://giocondayoga.com/event/715-830am-somatic-flow-and-sound-black-swan-anderson/2030-01-06/
LOCATION:Black Swan Anderson\, 1417 West Anderson Lane\, Austin\, Texas\, 78757
CATEGORIES:Classes
ATTACH;FMTTYPE=image/jpeg:https://giocondayoga.com/wp-content/uploads/2024/03/About-Gia-Resized-1.jpg
END:VEVENT
BEGIN:VEVENT
DTSTART;TZID=America/New_York:20300113T071500
DTEND;TZID=America/New_York:20300113T083000
DTSTAMP:20260421T155555
CREATED:20260320T185150Z
LAST-MODIFIED:20260320T185844Z
UID:10010975-1894518900-1894523400@giocondayoga.com
SUMMARY:7:15-8:30am Somatic Flow and Sound @Black Swan Anderson
DESCRIPTION:Somatic Flow & Sound:Move\, build\, release. This class guides you through an intentional arc of fluid\, breath-driven movement designed to wake up sensation and bring you fully into your body. After the flow\, settle into stillness and drop into a sound bath to integrate and reset.
URL:https://giocondayoga.com/event/715-830am-somatic-flow-and-sound-black-swan-anderson/2030-01-13/
LOCATION:Black Swan Anderson\, 1417 West Anderson Lane\, Austin\, Texas\, 78757
CATEGORIES:Classes
ATTACH;FMTTYPE=image/jpeg:https://giocondayoga.com/wp-content/uploads/2024/03/About-Gia-Resized-1.jpg
END:VEVENT
BEGIN:VEVENT
DTSTART;TZID=America/New_York:20300120T071500
DTEND;TZID=America/New_York:20300120T083000
DTSTAMP:20260421T155555
CREATED:20260320T185150Z
LAST-MODIFIED:20260320T185844Z
UID:10010976-1895123700-1895128200@giocondayoga.com
SUMMARY:7:15-8:30am Somatic Flow and Sound @Black Swan Anderson
DESCRIPTION:Somatic Flow & Sound:Move\, build\, release. This class guides you through an intentional arc of fluid\, breath-driven movement designed to wake up sensation and bring you fully into your body. After the flow\, settle into stillness and drop into a sound bath to integrate and reset.
URL:https://giocondayoga.com/event/715-830am-somatic-flow-and-sound-black-swan-anderson/2030-01-20/
LOCATION:Black Swan Anderson\, 1417 West Anderson Lane\, Austin\, Texas\, 78757
CATEGORIES:Classes
ATTACH;FMTTYPE=image/jpeg:https://giocondayoga.com/wp-content/uploads/2024/03/About-Gia-Resized-1.jpg
END:VEVENT
BEGIN:VEVENT
DTSTART;TZID=America/New_York:20300127T071500
DTEND;TZID=America/New_York:20300127T083000
DTSTAMP:20260421T155555
CREATED:20260320T185150Z
LAST-MODIFIED:20260320T185844Z
UID:10010977-1895728500-1895733000@giocondayoga.com
SUMMARY:7:15-8:30am Somatic Flow and Sound @Black Swan Anderson
DESCRIPTION:Somatic Flow & Sound:Move\, build\, release. This class guides you through an intentional arc of fluid\, breath-driven movement designed to wake up sensation and bring you fully into your body. After the flow\, settle into stillness and drop into a sound bath to integrate and reset.
URL:https://giocondayoga.com/event/715-830am-somatic-flow-and-sound-black-swan-anderson/2030-01-27/
LOCATION:Black Swan Anderson\, 1417 West Anderson Lane\, Austin\, Texas\, 78757
CATEGORIES:Classes
ATTACH;FMTTYPE=image/jpeg:https://giocondayoga.com/wp-content/uploads/2024/03/About-Gia-Resized-1.jpg
END:VEVENT
BEGIN:VEVENT
DTSTART;TZID=America/New_York:20300203T071500
DTEND;TZID=America/New_York:20300203T083000
DTSTAMP:20260421T155555
CREATED:20260320T185150Z
LAST-MODIFIED:20260320T185844Z
UID:10010978-1896333300-1896337800@giocondayoga.com
SUMMARY:7:15-8:30am Somatic Flow and Sound @Black Swan Anderson
DESCRIPTION:Somatic Flow & Sound:Move\, build\, release. This class guides you through an intentional arc of fluid\, breath-driven movement designed to wake up sensation and bring you fully into your body. After the flow\, settle into stillness and drop into a sound bath to integrate and reset.
URL:https://giocondayoga.com/event/715-830am-somatic-flow-and-sound-black-swan-anderson/2030-02-03/
LOCATION:Black Swan Anderson\, 1417 West Anderson Lane\, Austin\, Texas\, 78757
CATEGORIES:Classes
ATTACH;FMTTYPE=image/jpeg:https://giocondayoga.com/wp-content/uploads/2024/03/About-Gia-Resized-1.jpg
END:VEVENT
BEGIN:VEVENT
DTSTART;TZID=America/New_York:20300210T071500
DTEND;TZID=America/New_York:20300210T083000
DTSTAMP:20260421T155555
CREATED:20260320T185150Z
LAST-MODIFIED:20260320T185844Z
UID:10010979-1896938100-1896942600@giocondayoga.com
SUMMARY:7:15-8:30am Somatic Flow and Sound @Black Swan Anderson
DESCRIPTION:Somatic Flow & Sound:Move\, build\, release. This class guides you through an intentional arc of fluid\, breath-driven movement designed to wake up sensation and bring you fully into your body. After the flow\, settle into stillness and drop into a sound bath to integrate and reset.
URL:https://giocondayoga.com/event/715-830am-somatic-flow-and-sound-black-swan-anderson/2030-02-10/
LOCATION:Black Swan Anderson\, 1417 West Anderson Lane\, Austin\, Texas\, 78757
CATEGORIES:Classes
ATTACH;FMTTYPE=image/jpeg:https://giocondayoga.com/wp-content/uploads/2024/03/About-Gia-Resized-1.jpg
END:VEVENT
BEGIN:VEVENT
DTSTART;TZID=America/New_York:20300217T071500
DTEND;TZID=America/New_York:20300217T083000
DTSTAMP:20260421T155555
CREATED:20260320T185150Z
LAST-MODIFIED:20260320T185844Z
UID:10010980-1897542900-1897547400@giocondayoga.com
SUMMARY:7:15-8:30am Somatic Flow and Sound @Black Swan Anderson
DESCRIPTION:Somatic Flow & Sound:Move\, build\, release. This class guides you through an intentional arc of fluid\, breath-driven movement designed to wake up sensation and bring you fully into your body. After the flow\, settle into stillness and drop into a sound bath to integrate and reset.
URL:https://giocondayoga.com/event/715-830am-somatic-flow-and-sound-black-swan-anderson/2030-02-17/
LOCATION:Black Swan Anderson\, 1417 West Anderson Lane\, Austin\, Texas\, 78757
CATEGORIES:Classes
ATTACH;FMTTYPE=image/jpeg:https://giocondayoga.com/wp-content/uploads/2024/03/About-Gia-Resized-1.jpg
END:VEVENT
BEGIN:VEVENT
DTSTART;TZID=America/New_York:20300224T071500
DTEND;TZID=America/New_York:20300224T083000
DTSTAMP:20260421T155555
CREATED:20260320T185150Z
LAST-MODIFIED:20260320T185844Z
UID:10010981-1898147700-1898152200@giocondayoga.com
SUMMARY:7:15-8:30am Somatic Flow and Sound @Black Swan Anderson
DESCRIPTION:Somatic Flow & Sound:Move\, build\, release. This class guides you through an intentional arc of fluid\, breath-driven movement designed to wake up sensation and bring you fully into your body. After the flow\, settle into stillness and drop into a sound bath to integrate and reset.
URL:https://giocondayoga.com/event/715-830am-somatic-flow-and-sound-black-swan-anderson/2030-02-24/
LOCATION:Black Swan Anderson\, 1417 West Anderson Lane\, Austin\, Texas\, 78757
CATEGORIES:Classes
ATTACH;FMTTYPE=image/jpeg:https://giocondayoga.com/wp-content/uploads/2024/03/About-Gia-Resized-1.jpg
END:VEVENT
BEGIN:VEVENT
DTSTART;TZID=America/New_York:20300303T071500
DTEND;TZID=America/New_York:20300303T083000
DTSTAMP:20260421T155555
CREATED:20260320T185150Z
LAST-MODIFIED:20260320T185844Z
UID:10010982-1898752500-1898757000@giocondayoga.com
SUMMARY:7:15-8:30am Somatic Flow and Sound @Black Swan Anderson
DESCRIPTION:Somatic Flow & Sound:Move\, build\, release. This class guides you through an intentional arc of fluid\, breath-driven movement designed to wake up sensation and bring you fully into your body. After the flow\, settle into stillness and drop into a sound bath to integrate and reset.
URL:https://giocondayoga.com/event/715-830am-somatic-flow-and-sound-black-swan-anderson/2030-03-03/
LOCATION:Black Swan Anderson\, 1417 West Anderson Lane\, Austin\, Texas\, 78757
CATEGORIES:Classes
ATTACH;FMTTYPE=image/jpeg:https://giocondayoga.com/wp-content/uploads/2024/03/About-Gia-Resized-1.jpg
END:VEVENT
BEGIN:VEVENT
DTSTART;TZID=America/New_York:20300310T071500
DTEND;TZID=America/New_York:20300310T083000
DTSTAMP:20260421T155555
CREATED:20260320T185150Z
LAST-MODIFIED:20260320T185844Z
UID:10010983-1899357300-1899361800@giocondayoga.com
SUMMARY:7:15-8:30am Somatic Flow and Sound @Black Swan Anderson
DESCRIPTION:Somatic Flow & Sound:Move\, build\, release. This class guides you through an intentional arc of fluid\, breath-driven movement designed to wake up sensation and bring you fully into your body. After the flow\, settle into stillness and drop into a sound bath to integrate and reset.
URL:https://giocondayoga.com/event/715-830am-somatic-flow-and-sound-black-swan-anderson/2030-03-10/
LOCATION:Black Swan Anderson\, 1417 West Anderson Lane\, Austin\, Texas\, 78757
CATEGORIES:Classes
ATTACH;FMTTYPE=image/jpeg:https://giocondayoga.com/wp-content/uploads/2024/03/About-Gia-Resized-1.jpg
END:VEVENT
BEGIN:VEVENT
DTSTART;TZID=America/New_York:20300317T071500
DTEND;TZID=America/New_York:20300317T083000
DTSTAMP:20260421T155555
CREATED:20260320T185150Z
LAST-MODIFIED:20260320T185844Z
UID:10010984-1899962100-1899966600@giocondayoga.com
SUMMARY:7:15-8:30am Somatic Flow and Sound @Black Swan Anderson
DESCRIPTION:Somatic Flow & Sound:Move\, build\, release. This class guides you through an intentional arc of fluid\, breath-driven movement designed to wake up sensation and bring you fully into your body. After the flow\, settle into stillness and drop into a sound bath to integrate and reset.
URL:https://giocondayoga.com/event/715-830am-somatic-flow-and-sound-black-swan-anderson/2030-03-17/
LOCATION:Black Swan Anderson\, 1417 West Anderson Lane\, Austin\, Texas\, 78757
CATEGORIES:Classes
ATTACH;FMTTYPE=image/jpeg:https://giocondayoga.com/wp-content/uploads/2024/03/About-Gia-Resized-1.jpg
END:VEVENT
BEGIN:VEVENT
DTSTART;TZID=America/New_York:20300324T071500
DTEND;TZID=America/New_York:20300324T083000
DTSTAMP:20260421T155555
CREATED:20260320T185150Z
LAST-MODIFIED:20260320T185844Z
UID:10010985-1900566900-1900571400@giocondayoga.com
SUMMARY:7:15-8:30am Somatic Flow and Sound @Black Swan Anderson
DESCRIPTION:Somatic Flow & Sound:Move\, build\, release. This class guides you through an intentional arc of fluid\, breath-driven movement designed to wake up sensation and bring you fully into your body. After the flow\, settle into stillness and drop into a sound bath to integrate and reset.
URL:https://giocondayoga.com/event/715-830am-somatic-flow-and-sound-black-swan-anderson/2030-03-24/
LOCATION:Black Swan Anderson\, 1417 West Anderson Lane\, Austin\, Texas\, 78757
CATEGORIES:Classes
ATTACH;FMTTYPE=image/jpeg:https://giocondayoga.com/wp-content/uploads/2024/03/About-Gia-Resized-1.jpg
END:VEVENT
BEGIN:VEVENT
DTSTART;TZID=America/New_York:20300331T071500
DTEND;TZID=America/New_York:20300331T083000
DTSTAMP:20260421T155555
CREATED:20260320T185150Z
LAST-MODIFIED:20260320T185844Z
UID:10010986-1901171700-1901176200@giocondayoga.com
SUMMARY:7:15-8:30am Somatic Flow and Sound @Black Swan Anderson
DESCRIPTION:Somatic Flow & Sound:Move\, build\, release. This class guides you through an intentional arc of fluid\, breath-driven movement designed to wake up sensation and bring you fully into your body. After the flow\, settle into stillness and drop into a sound bath to integrate and reset.
URL:https://giocondayoga.com/event/715-830am-somatic-flow-and-sound-black-swan-anderson/2030-03-31/
LOCATION:Black Swan Anderson\, 1417 West Anderson Lane\, Austin\, Texas\, 78757
CATEGORIES:Classes
ATTACH;FMTTYPE=image/jpeg:https://giocondayoga.com/wp-content/uploads/2024/03/About-Gia-Resized-1.jpg
END:VEVENT
BEGIN:VEVENT
DTSTART;TZID=America/New_York:20300407T071500
DTEND;TZID=America/New_York:20300407T083000
DTSTAMP:20260421T155555
CREATED:20260320T185150Z
LAST-MODIFIED:20260320T185844Z
UID:10010987-1901776500-1901781000@giocondayoga.com
SUMMARY:7:15-8:30am Somatic Flow and Sound @Black Swan Anderson
DESCRIPTION:Somatic Flow & Sound:Move\, build\, release. This class guides you through an intentional arc of fluid\, breath-driven movement designed to wake up sensation and bring you fully into your body. After the flow\, settle into stillness and drop into a sound bath to integrate and reset.
URL:https://giocondayoga.com/event/715-830am-somatic-flow-and-sound-black-swan-anderson/2030-04-07/
LOCATION:Black Swan Anderson\, 1417 West Anderson Lane\, Austin\, Texas\, 78757
CATEGORIES:Classes
ATTACH;FMTTYPE=image/jpeg:https://giocondayoga.com/wp-content/uploads/2024/03/About-Gia-Resized-1.jpg
END:VEVENT
BEGIN:VEVENT
DTSTART;TZID=America/New_York:20300414T071500
DTEND;TZID=America/New_York:20300414T083000
DTSTAMP:20260421T155555
CREATED:20260320T185150Z
LAST-MODIFIED:20260320T185844Z
UID:10010988-1902381300-1902385800@giocondayoga.com
SUMMARY:7:15-8:30am Somatic Flow and Sound @Black Swan Anderson
DESCRIPTION:Somatic Flow & Sound:Move\, build\, release. This class guides you through an intentional arc of fluid\, breath-driven movement designed to wake up sensation and bring you fully into your body. After the flow\, settle into stillness and drop into a sound bath to integrate and reset.
URL:https://giocondayoga.com/event/715-830am-somatic-flow-and-sound-black-swan-anderson/2030-04-14/
LOCATION:Black Swan Anderson\, 1417 West Anderson Lane\, Austin\, Texas\, 78757
CATEGORIES:Classes
ATTACH;FMTTYPE=image/jpeg:https://giocondayoga.com/wp-content/uploads/2024/03/About-Gia-Resized-1.jpg
END:VEVENT
BEGIN:VEVENT
DTSTART;TZID=America/New_York:20300421T071500
DTEND;TZID=America/New_York:20300421T083000
DTSTAMP:20260421T155555
CREATED:20260320T185150Z
LAST-MODIFIED:20260320T185844Z
UID:10010989-1902986100-1902990600@giocondayoga.com
SUMMARY:7:15-8:30am Somatic Flow and Sound @Black Swan Anderson
DESCRIPTION:Somatic Flow & Sound:Move\, build\, release. This class guides you through an intentional arc of fluid\, breath-driven movement designed to wake up sensation and bring you fully into your body. After the flow\, settle into stillness and drop into a sound bath to integrate and reset.
URL:https://giocondayoga.com/event/715-830am-somatic-flow-and-sound-black-swan-anderson/2030-04-21/
LOCATION:Black Swan Anderson\, 1417 West Anderson Lane\, Austin\, Texas\, 78757
CATEGORIES:Classes
ATTACH;FMTTYPE=image/jpeg:https://giocondayoga.com/wp-content/uploads/2024/03/About-Gia-Resized-1.jpg
END:VEVENT
BEGIN:VEVENT
DTSTART;TZID=America/New_York:20300428T071500
DTEND;TZID=America/New_York:20300428T083000
DTSTAMP:20260421T155555
CREATED:20260320T185150Z
LAST-MODIFIED:20260320T185844Z
UID:10010990-1903590900-1903595400@giocondayoga.com
SUMMARY:7:15-8:30am Somatic Flow and Sound @Black Swan Anderson
DESCRIPTION:Somatic Flow & Sound:Move\, build\, release. This class guides you through an intentional arc of fluid\, breath-driven movement designed to wake up sensation and bring you fully into your body. After the flow\, settle into stillness and drop into a sound bath to integrate and reset.
URL:https://giocondayoga.com/event/715-830am-somatic-flow-and-sound-black-swan-anderson/2030-04-28/
LOCATION:Black Swan Anderson\, 1417 West Anderson Lane\, Austin\, Texas\, 78757
CATEGORIES:Classes
ATTACH;FMTTYPE=image/jpeg:https://giocondayoga.com/wp-content/uploads/2024/03/About-Gia-Resized-1.jpg
END:VEVENT
END:VCALENDAR