BEGIN:VCALENDAR
VERSION:2.0
PRODID:-//Gioconda Yoga - ECPv6.15.20//NONSGML v1.0//EN
CALSCALE:GREGORIAN
METHOD:PUBLISH
X-WR-CALNAME:Gioconda Yoga
X-ORIGINAL-URL:https://giocondayoga.com
X-WR-CALDESC:Events for Gioconda Yoga
REFRESH-INTERVAL;VALUE=DURATION:PT1H
X-Robots-Tag:noindex
X-PUBLISHED-TTL:PT1H
BEGIN:VTIMEZONE
TZID:America/New_York
BEGIN:DAYLIGHT
TZOFFSETFROM:-0500
TZOFFSETTO:-0400
TZNAME:EDT
DTSTART:20280312T070000
END:DAYLIGHT
BEGIN:STANDARD
TZOFFSETFROM:-0400
TZOFFSETTO:-0500
TZNAME:EST
DTSTART:20281105T060000
END:STANDARD
BEGIN:DAYLIGHT
TZOFFSETFROM:-0500
TZOFFSETTO:-0400
TZNAME:EDT
DTSTART:20290311T070000
END:DAYLIGHT
BEGIN:STANDARD
TZOFFSETFROM:-0400
TZOFFSETTO:-0500
TZNAME:EST
DTSTART:20291104T060000
END:STANDARD
BEGIN:DAYLIGHT
TZOFFSETFROM:-0500
TZOFFSETTO:-0400
TZNAME:EDT
DTSTART:20300310T070000
END:DAYLIGHT
BEGIN:STANDARD
TZOFFSETFROM:-0400
TZOFFSETTO:-0500
TZNAME:EST
DTSTART:20301103T060000
END:STANDARD
END:VTIMEZONE
BEGIN:VEVENT
DTSTART;TZID=America/New_York:20290311T071500
DTEND;TZID=America/New_York:20290311T083000
DTSTAMP:20260421T090734
CREATED:20260320T185150Z
LAST-MODIFIED:20260320T185844Z
UID:10010931-1867907700-1867912200@giocondayoga.com
SUMMARY:7:15-8:30am Somatic Flow and Sound @Black Swan Anderson
DESCRIPTION:Somatic Flow & Sound:Move\, build\, release. This class guides you through an intentional arc of fluid\, breath-driven movement designed to wake up sensation and bring you fully into your body. After the flow\, settle into stillness and drop into a sound bath to integrate and reset.
URL:https://giocondayoga.com/event/715-830am-somatic-flow-and-sound-black-swan-anderson/2029-03-11/
LOCATION:Black Swan Anderson\, 1417 West Anderson Lane\, Austin\, Texas\, 78757
CATEGORIES:Classes
ATTACH;FMTTYPE=image/jpeg:https://giocondayoga.com/wp-content/uploads/2024/03/About-Gia-Resized-1.jpg
END:VEVENT
BEGIN:VEVENT
DTSTART;TZID=America/New_York:20290318T071500
DTEND;TZID=America/New_York:20290318T083000
DTSTAMP:20260421T090734
CREATED:20260320T185150Z
LAST-MODIFIED:20260320T185844Z
UID:10010932-1868512500-1868517000@giocondayoga.com
SUMMARY:7:15-8:30am Somatic Flow and Sound @Black Swan Anderson
DESCRIPTION:Somatic Flow & Sound:Move\, build\, release. This class guides you through an intentional arc of fluid\, breath-driven movement designed to wake up sensation and bring you fully into your body. After the flow\, settle into stillness and drop into a sound bath to integrate and reset.
URL:https://giocondayoga.com/event/715-830am-somatic-flow-and-sound-black-swan-anderson/2029-03-18/
LOCATION:Black Swan Anderson\, 1417 West Anderson Lane\, Austin\, Texas\, 78757
CATEGORIES:Classes
ATTACH;FMTTYPE=image/jpeg:https://giocondayoga.com/wp-content/uploads/2024/03/About-Gia-Resized-1.jpg
END:VEVENT
BEGIN:VEVENT
DTSTART;TZID=America/New_York:20290325T071500
DTEND;TZID=America/New_York:20290325T083000
DTSTAMP:20260421T090734
CREATED:20260320T185150Z
LAST-MODIFIED:20260320T185844Z
UID:10010933-1869117300-1869121800@giocondayoga.com
SUMMARY:7:15-8:30am Somatic Flow and Sound @Black Swan Anderson
DESCRIPTION:Somatic Flow & Sound:Move\, build\, release. This class guides you through an intentional arc of fluid\, breath-driven movement designed to wake up sensation and bring you fully into your body. After the flow\, settle into stillness and drop into a sound bath to integrate and reset.
URL:https://giocondayoga.com/event/715-830am-somatic-flow-and-sound-black-swan-anderson/2029-03-25/
LOCATION:Black Swan Anderson\, 1417 West Anderson Lane\, Austin\, Texas\, 78757
CATEGORIES:Classes
ATTACH;FMTTYPE=image/jpeg:https://giocondayoga.com/wp-content/uploads/2024/03/About-Gia-Resized-1.jpg
END:VEVENT
BEGIN:VEVENT
DTSTART;TZID=America/New_York:20290401T071500
DTEND;TZID=America/New_York:20290401T083000
DTSTAMP:20260421T090734
CREATED:20260320T185150Z
LAST-MODIFIED:20260320T185844Z
UID:10010934-1869722100-1869726600@giocondayoga.com
SUMMARY:7:15-8:30am Somatic Flow and Sound @Black Swan Anderson
DESCRIPTION:Somatic Flow & Sound:Move\, build\, release. This class guides you through an intentional arc of fluid\, breath-driven movement designed to wake up sensation and bring you fully into your body. After the flow\, settle into stillness and drop into a sound bath to integrate and reset.
URL:https://giocondayoga.com/event/715-830am-somatic-flow-and-sound-black-swan-anderson/2029-04-01/
LOCATION:Black Swan Anderson\, 1417 West Anderson Lane\, Austin\, Texas\, 78757
CATEGORIES:Classes
ATTACH;FMTTYPE=image/jpeg:https://giocondayoga.com/wp-content/uploads/2024/03/About-Gia-Resized-1.jpg
END:VEVENT
BEGIN:VEVENT
DTSTART;TZID=America/New_York:20290408T071500
DTEND;TZID=America/New_York:20290408T083000
DTSTAMP:20260421T090734
CREATED:20260320T185150Z
LAST-MODIFIED:20260320T185844Z
UID:10010935-1870326900-1870331400@giocondayoga.com
SUMMARY:7:15-8:30am Somatic Flow and Sound @Black Swan Anderson
DESCRIPTION:Somatic Flow & Sound:Move\, build\, release. This class guides you through an intentional arc of fluid\, breath-driven movement designed to wake up sensation and bring you fully into your body. After the flow\, settle into stillness and drop into a sound bath to integrate and reset.
URL:https://giocondayoga.com/event/715-830am-somatic-flow-and-sound-black-swan-anderson/2029-04-08/
LOCATION:Black Swan Anderson\, 1417 West Anderson Lane\, Austin\, Texas\, 78757
CATEGORIES:Classes
ATTACH;FMTTYPE=image/jpeg:https://giocondayoga.com/wp-content/uploads/2024/03/About-Gia-Resized-1.jpg
END:VEVENT
BEGIN:VEVENT
DTSTART;TZID=America/New_York:20290415T071500
DTEND;TZID=America/New_York:20290415T083000
DTSTAMP:20260421T090734
CREATED:20260320T185150Z
LAST-MODIFIED:20260320T185844Z
UID:10010936-1870931700-1870936200@giocondayoga.com
SUMMARY:7:15-8:30am Somatic Flow and Sound @Black Swan Anderson
DESCRIPTION:Somatic Flow & Sound:Move\, build\, release. This class guides you through an intentional arc of fluid\, breath-driven movement designed to wake up sensation and bring you fully into your body. After the flow\, settle into stillness and drop into a sound bath to integrate and reset.
URL:https://giocondayoga.com/event/715-830am-somatic-flow-and-sound-black-swan-anderson/2029-04-15/
LOCATION:Black Swan Anderson\, 1417 West Anderson Lane\, Austin\, Texas\, 78757
CATEGORIES:Classes
ATTACH;FMTTYPE=image/jpeg:https://giocondayoga.com/wp-content/uploads/2024/03/About-Gia-Resized-1.jpg
END:VEVENT
BEGIN:VEVENT
DTSTART;TZID=America/New_York:20290422T071500
DTEND;TZID=America/New_York:20290422T083000
DTSTAMP:20260421T090734
CREATED:20260320T185150Z
LAST-MODIFIED:20260320T185844Z
UID:10010937-1871536500-1871541000@giocondayoga.com
SUMMARY:7:15-8:30am Somatic Flow and Sound @Black Swan Anderson
DESCRIPTION:Somatic Flow & Sound:Move\, build\, release. This class guides you through an intentional arc of fluid\, breath-driven movement designed to wake up sensation and bring you fully into your body. After the flow\, settle into stillness and drop into a sound bath to integrate and reset.
URL:https://giocondayoga.com/event/715-830am-somatic-flow-and-sound-black-swan-anderson/2029-04-22/
LOCATION:Black Swan Anderson\, 1417 West Anderson Lane\, Austin\, Texas\, 78757
CATEGORIES:Classes
ATTACH;FMTTYPE=image/jpeg:https://giocondayoga.com/wp-content/uploads/2024/03/About-Gia-Resized-1.jpg
END:VEVENT
BEGIN:VEVENT
DTSTART;TZID=America/New_York:20290429T071500
DTEND;TZID=America/New_York:20290429T083000
DTSTAMP:20260421T090734
CREATED:20260320T185150Z
LAST-MODIFIED:20260320T185844Z
UID:10010938-1872141300-1872145800@giocondayoga.com
SUMMARY:7:15-8:30am Somatic Flow and Sound @Black Swan Anderson
DESCRIPTION:Somatic Flow & Sound:Move\, build\, release. This class guides you through an intentional arc of fluid\, breath-driven movement designed to wake up sensation and bring you fully into your body. After the flow\, settle into stillness and drop into a sound bath to integrate and reset.
URL:https://giocondayoga.com/event/715-830am-somatic-flow-and-sound-black-swan-anderson/2029-04-29/
LOCATION:Black Swan Anderson\, 1417 West Anderson Lane\, Austin\, Texas\, 78757
CATEGORIES:Classes
ATTACH;FMTTYPE=image/jpeg:https://giocondayoga.com/wp-content/uploads/2024/03/About-Gia-Resized-1.jpg
END:VEVENT
BEGIN:VEVENT
DTSTART;TZID=America/New_York:20290506T071500
DTEND;TZID=America/New_York:20290506T083000
DTSTAMP:20260421T090734
CREATED:20260320T185150Z
LAST-MODIFIED:20260320T185844Z
UID:10010939-1872746100-1872750600@giocondayoga.com
SUMMARY:7:15-8:30am Somatic Flow and Sound @Black Swan Anderson
DESCRIPTION:Somatic Flow & Sound:Move\, build\, release. This class guides you through an intentional arc of fluid\, breath-driven movement designed to wake up sensation and bring you fully into your body. After the flow\, settle into stillness and drop into a sound bath to integrate and reset.
URL:https://giocondayoga.com/event/715-830am-somatic-flow-and-sound-black-swan-anderson/2029-05-06/
LOCATION:Black Swan Anderson\, 1417 West Anderson Lane\, Austin\, Texas\, 78757
CATEGORIES:Classes
ATTACH;FMTTYPE=image/jpeg:https://giocondayoga.com/wp-content/uploads/2024/03/About-Gia-Resized-1.jpg
END:VEVENT
BEGIN:VEVENT
DTSTART;TZID=America/New_York:20290513T071500
DTEND;TZID=America/New_York:20290513T083000
DTSTAMP:20260421T090734
CREATED:20260320T185150Z
LAST-MODIFIED:20260320T185844Z
UID:10010940-1873350900-1873355400@giocondayoga.com
SUMMARY:7:15-8:30am Somatic Flow and Sound @Black Swan Anderson
DESCRIPTION:Somatic Flow & Sound:Move\, build\, release. This class guides you through an intentional arc of fluid\, breath-driven movement designed to wake up sensation and bring you fully into your body. After the flow\, settle into stillness and drop into a sound bath to integrate and reset.
URL:https://giocondayoga.com/event/715-830am-somatic-flow-and-sound-black-swan-anderson/2029-05-13/
LOCATION:Black Swan Anderson\, 1417 West Anderson Lane\, Austin\, Texas\, 78757
CATEGORIES:Classes
ATTACH;FMTTYPE=image/jpeg:https://giocondayoga.com/wp-content/uploads/2024/03/About-Gia-Resized-1.jpg
END:VEVENT
BEGIN:VEVENT
DTSTART;TZID=America/New_York:20290520T071500
DTEND;TZID=America/New_York:20290520T083000
DTSTAMP:20260421T090734
CREATED:20260320T185150Z
LAST-MODIFIED:20260320T185844Z
UID:10010941-1873955700-1873960200@giocondayoga.com
SUMMARY:7:15-8:30am Somatic Flow and Sound @Black Swan Anderson
DESCRIPTION:Somatic Flow & Sound:Move\, build\, release. This class guides you through an intentional arc of fluid\, breath-driven movement designed to wake up sensation and bring you fully into your body. After the flow\, settle into stillness and drop into a sound bath to integrate and reset.
URL:https://giocondayoga.com/event/715-830am-somatic-flow-and-sound-black-swan-anderson/2029-05-20/
LOCATION:Black Swan Anderson\, 1417 West Anderson Lane\, Austin\, Texas\, 78757
CATEGORIES:Classes
ATTACH;FMTTYPE=image/jpeg:https://giocondayoga.com/wp-content/uploads/2024/03/About-Gia-Resized-1.jpg
END:VEVENT
BEGIN:VEVENT
DTSTART;TZID=America/New_York:20290527T071500
DTEND;TZID=America/New_York:20290527T083000
DTSTAMP:20260421T090734
CREATED:20260320T185150Z
LAST-MODIFIED:20260320T185844Z
UID:10010942-1874560500-1874565000@giocondayoga.com
SUMMARY:7:15-8:30am Somatic Flow and Sound @Black Swan Anderson
DESCRIPTION:Somatic Flow & Sound:Move\, build\, release. This class guides you through an intentional arc of fluid\, breath-driven movement designed to wake up sensation and bring you fully into your body. After the flow\, settle into stillness and drop into a sound bath to integrate and reset.
URL:https://giocondayoga.com/event/715-830am-somatic-flow-and-sound-black-swan-anderson/2029-05-27/
LOCATION:Black Swan Anderson\, 1417 West Anderson Lane\, Austin\, Texas\, 78757
CATEGORIES:Classes
ATTACH;FMTTYPE=image/jpeg:https://giocondayoga.com/wp-content/uploads/2024/03/About-Gia-Resized-1.jpg
END:VEVENT
BEGIN:VEVENT
DTSTART;TZID=America/New_York:20290603T071500
DTEND;TZID=America/New_York:20290603T083000
DTSTAMP:20260421T090734
CREATED:20260320T185150Z
LAST-MODIFIED:20260320T185844Z
UID:10010943-1875165300-1875169800@giocondayoga.com
SUMMARY:7:15-8:30am Somatic Flow and Sound @Black Swan Anderson
DESCRIPTION:Somatic Flow & Sound:Move\, build\, release. This class guides you through an intentional arc of fluid\, breath-driven movement designed to wake up sensation and bring you fully into your body. After the flow\, settle into stillness and drop into a sound bath to integrate and reset.
URL:https://giocondayoga.com/event/715-830am-somatic-flow-and-sound-black-swan-anderson/2029-06-03/
LOCATION:Black Swan Anderson\, 1417 West Anderson Lane\, Austin\, Texas\, 78757
CATEGORIES:Classes
ATTACH;FMTTYPE=image/jpeg:https://giocondayoga.com/wp-content/uploads/2024/03/About-Gia-Resized-1.jpg
END:VEVENT
BEGIN:VEVENT
DTSTART;TZID=America/New_York:20290610T071500
DTEND;TZID=America/New_York:20290610T083000
DTSTAMP:20260421T090734
CREATED:20260320T185150Z
LAST-MODIFIED:20260320T185844Z
UID:10010944-1875770100-1875774600@giocondayoga.com
SUMMARY:7:15-8:30am Somatic Flow and Sound @Black Swan Anderson
DESCRIPTION:Somatic Flow & Sound:Move\, build\, release. This class guides you through an intentional arc of fluid\, breath-driven movement designed to wake up sensation and bring you fully into your body. After the flow\, settle into stillness and drop into a sound bath to integrate and reset.
URL:https://giocondayoga.com/event/715-830am-somatic-flow-and-sound-black-swan-anderson/2029-06-10/
LOCATION:Black Swan Anderson\, 1417 West Anderson Lane\, Austin\, Texas\, 78757
CATEGORIES:Classes
ATTACH;FMTTYPE=image/jpeg:https://giocondayoga.com/wp-content/uploads/2024/03/About-Gia-Resized-1.jpg
END:VEVENT
BEGIN:VEVENT
DTSTART;TZID=America/New_York:20290617T071500
DTEND;TZID=America/New_York:20290617T083000
DTSTAMP:20260421T090734
CREATED:20260320T185150Z
LAST-MODIFIED:20260320T185844Z
UID:10010945-1876374900-1876379400@giocondayoga.com
SUMMARY:7:15-8:30am Somatic Flow and Sound @Black Swan Anderson
DESCRIPTION:Somatic Flow & Sound:Move\, build\, release. This class guides you through an intentional arc of fluid\, breath-driven movement designed to wake up sensation and bring you fully into your body. After the flow\, settle into stillness and drop into a sound bath to integrate and reset.
URL:https://giocondayoga.com/event/715-830am-somatic-flow-and-sound-black-swan-anderson/2029-06-17/
LOCATION:Black Swan Anderson\, 1417 West Anderson Lane\, Austin\, Texas\, 78757
CATEGORIES:Classes
ATTACH;FMTTYPE=image/jpeg:https://giocondayoga.com/wp-content/uploads/2024/03/About-Gia-Resized-1.jpg
END:VEVENT
BEGIN:VEVENT
DTSTART;TZID=America/New_York:20290624T071500
DTEND;TZID=America/New_York:20290624T083000
DTSTAMP:20260421T090734
CREATED:20260320T185150Z
LAST-MODIFIED:20260320T185844Z
UID:10010946-1876979700-1876984200@giocondayoga.com
SUMMARY:7:15-8:30am Somatic Flow and Sound @Black Swan Anderson
DESCRIPTION:Somatic Flow & Sound:Move\, build\, release. This class guides you through an intentional arc of fluid\, breath-driven movement designed to wake up sensation and bring you fully into your body. After the flow\, settle into stillness and drop into a sound bath to integrate and reset.
URL:https://giocondayoga.com/event/715-830am-somatic-flow-and-sound-black-swan-anderson/2029-06-24/
LOCATION:Black Swan Anderson\, 1417 West Anderson Lane\, Austin\, Texas\, 78757
CATEGORIES:Classes
ATTACH;FMTTYPE=image/jpeg:https://giocondayoga.com/wp-content/uploads/2024/03/About-Gia-Resized-1.jpg
END:VEVENT
BEGIN:VEVENT
DTSTART;TZID=America/New_York:20290701T071500
DTEND;TZID=America/New_York:20290701T083000
DTSTAMP:20260421T090734
CREATED:20260320T185150Z
LAST-MODIFIED:20260320T185844Z
UID:10010947-1877584500-1877589000@giocondayoga.com
SUMMARY:7:15-8:30am Somatic Flow and Sound @Black Swan Anderson
DESCRIPTION:Somatic Flow & Sound:Move\, build\, release. This class guides you through an intentional arc of fluid\, breath-driven movement designed to wake up sensation and bring you fully into your body. After the flow\, settle into stillness and drop into a sound bath to integrate and reset.
URL:https://giocondayoga.com/event/715-830am-somatic-flow-and-sound-black-swan-anderson/2029-07-01/
LOCATION:Black Swan Anderson\, 1417 West Anderson Lane\, Austin\, Texas\, 78757
CATEGORIES:Classes
ATTACH;FMTTYPE=image/jpeg:https://giocondayoga.com/wp-content/uploads/2024/03/About-Gia-Resized-1.jpg
END:VEVENT
BEGIN:VEVENT
DTSTART;TZID=America/New_York:20290708T071500
DTEND;TZID=America/New_York:20290708T083000
DTSTAMP:20260421T090734
CREATED:20260320T185150Z
LAST-MODIFIED:20260320T185844Z
UID:10010948-1878189300-1878193800@giocondayoga.com
SUMMARY:7:15-8:30am Somatic Flow and Sound @Black Swan Anderson
DESCRIPTION:Somatic Flow & Sound:Move\, build\, release. This class guides you through an intentional arc of fluid\, breath-driven movement designed to wake up sensation and bring you fully into your body. After the flow\, settle into stillness and drop into a sound bath to integrate and reset.
URL:https://giocondayoga.com/event/715-830am-somatic-flow-and-sound-black-swan-anderson/2029-07-08/
LOCATION:Black Swan Anderson\, 1417 West Anderson Lane\, Austin\, Texas\, 78757
CATEGORIES:Classes
ATTACH;FMTTYPE=image/jpeg:https://giocondayoga.com/wp-content/uploads/2024/03/About-Gia-Resized-1.jpg
END:VEVENT
BEGIN:VEVENT
DTSTART;TZID=America/New_York:20290715T071500
DTEND;TZID=America/New_York:20290715T083000
DTSTAMP:20260421T090734
CREATED:20260320T185150Z
LAST-MODIFIED:20260320T185844Z
UID:10010949-1878794100-1878798600@giocondayoga.com
SUMMARY:7:15-8:30am Somatic Flow and Sound @Black Swan Anderson
DESCRIPTION:Somatic Flow & Sound:Move\, build\, release. This class guides you through an intentional arc of fluid\, breath-driven movement designed to wake up sensation and bring you fully into your body. After the flow\, settle into stillness and drop into a sound bath to integrate and reset.
URL:https://giocondayoga.com/event/715-830am-somatic-flow-and-sound-black-swan-anderson/2029-07-15/
LOCATION:Black Swan Anderson\, 1417 West Anderson Lane\, Austin\, Texas\, 78757
CATEGORIES:Classes
ATTACH;FMTTYPE=image/jpeg:https://giocondayoga.com/wp-content/uploads/2024/03/About-Gia-Resized-1.jpg
END:VEVENT
BEGIN:VEVENT
DTSTART;TZID=America/New_York:20290722T071500
DTEND;TZID=America/New_York:20290722T083000
DTSTAMP:20260421T090734
CREATED:20260320T185150Z
LAST-MODIFIED:20260320T185844Z
UID:10010950-1879398900-1879403400@giocondayoga.com
SUMMARY:7:15-8:30am Somatic Flow and Sound @Black Swan Anderson
DESCRIPTION:Somatic Flow & Sound:Move\, build\, release. This class guides you through an intentional arc of fluid\, breath-driven movement designed to wake up sensation and bring you fully into your body. After the flow\, settle into stillness and drop into a sound bath to integrate and reset.
URL:https://giocondayoga.com/event/715-830am-somatic-flow-and-sound-black-swan-anderson/2029-07-22/
LOCATION:Black Swan Anderson\, 1417 West Anderson Lane\, Austin\, Texas\, 78757
CATEGORIES:Classes
ATTACH;FMTTYPE=image/jpeg:https://giocondayoga.com/wp-content/uploads/2024/03/About-Gia-Resized-1.jpg
END:VEVENT
BEGIN:VEVENT
DTSTART;TZID=America/New_York:20290729T071500
DTEND;TZID=America/New_York:20290729T083000
DTSTAMP:20260421T090734
CREATED:20260320T185150Z
LAST-MODIFIED:20260320T185844Z
UID:10010951-1880003700-1880008200@giocondayoga.com
SUMMARY:7:15-8:30am Somatic Flow and Sound @Black Swan Anderson
DESCRIPTION:Somatic Flow & Sound:Move\, build\, release. This class guides you through an intentional arc of fluid\, breath-driven movement designed to wake up sensation and bring you fully into your body. After the flow\, settle into stillness and drop into a sound bath to integrate and reset.
URL:https://giocondayoga.com/event/715-830am-somatic-flow-and-sound-black-swan-anderson/2029-07-29/
LOCATION:Black Swan Anderson\, 1417 West Anderson Lane\, Austin\, Texas\, 78757
CATEGORIES:Classes
ATTACH;FMTTYPE=image/jpeg:https://giocondayoga.com/wp-content/uploads/2024/03/About-Gia-Resized-1.jpg
END:VEVENT
BEGIN:VEVENT
DTSTART;TZID=America/New_York:20290805T071500
DTEND;TZID=America/New_York:20290805T083000
DTSTAMP:20260421T090734
CREATED:20260320T185150Z
LAST-MODIFIED:20260320T185844Z
UID:10010952-1880608500-1880613000@giocondayoga.com
SUMMARY:7:15-8:30am Somatic Flow and Sound @Black Swan Anderson
DESCRIPTION:Somatic Flow & Sound:Move\, build\, release. This class guides you through an intentional arc of fluid\, breath-driven movement designed to wake up sensation and bring you fully into your body. After the flow\, settle into stillness and drop into a sound bath to integrate and reset.
URL:https://giocondayoga.com/event/715-830am-somatic-flow-and-sound-black-swan-anderson/2029-08-05/
LOCATION:Black Swan Anderson\, 1417 West Anderson Lane\, Austin\, Texas\, 78757
CATEGORIES:Classes
ATTACH;FMTTYPE=image/jpeg:https://giocondayoga.com/wp-content/uploads/2024/03/About-Gia-Resized-1.jpg
END:VEVENT
BEGIN:VEVENT
DTSTART;TZID=America/New_York:20290812T071500
DTEND;TZID=America/New_York:20290812T083000
DTSTAMP:20260421T090734
CREATED:20260320T185150Z
LAST-MODIFIED:20260320T185844Z
UID:10010953-1881213300-1881217800@giocondayoga.com
SUMMARY:7:15-8:30am Somatic Flow and Sound @Black Swan Anderson
DESCRIPTION:Somatic Flow & Sound:Move\, build\, release. This class guides you through an intentional arc of fluid\, breath-driven movement designed to wake up sensation and bring you fully into your body. After the flow\, settle into stillness and drop into a sound bath to integrate and reset.
URL:https://giocondayoga.com/event/715-830am-somatic-flow-and-sound-black-swan-anderson/2029-08-12/
LOCATION:Black Swan Anderson\, 1417 West Anderson Lane\, Austin\, Texas\, 78757
CATEGORIES:Classes
ATTACH;FMTTYPE=image/jpeg:https://giocondayoga.com/wp-content/uploads/2024/03/About-Gia-Resized-1.jpg
END:VEVENT
BEGIN:VEVENT
DTSTART;TZID=America/New_York:20290819T071500
DTEND;TZID=America/New_York:20290819T083000
DTSTAMP:20260421T090734
CREATED:20260320T185150Z
LAST-MODIFIED:20260320T185844Z
UID:10010954-1881818100-1881822600@giocondayoga.com
SUMMARY:7:15-8:30am Somatic Flow and Sound @Black Swan Anderson
DESCRIPTION:Somatic Flow & Sound:Move\, build\, release. This class guides you through an intentional arc of fluid\, breath-driven movement designed to wake up sensation and bring you fully into your body. After the flow\, settle into stillness and drop into a sound bath to integrate and reset.
URL:https://giocondayoga.com/event/715-830am-somatic-flow-and-sound-black-swan-anderson/2029-08-19/
LOCATION:Black Swan Anderson\, 1417 West Anderson Lane\, Austin\, Texas\, 78757
CATEGORIES:Classes
ATTACH;FMTTYPE=image/jpeg:https://giocondayoga.com/wp-content/uploads/2024/03/About-Gia-Resized-1.jpg
END:VEVENT
BEGIN:VEVENT
DTSTART;TZID=America/New_York:20290826T071500
DTEND;TZID=America/New_York:20290826T083000
DTSTAMP:20260421T090734
CREATED:20260320T185150Z
LAST-MODIFIED:20260320T185844Z
UID:10010955-1882422900-1882427400@giocondayoga.com
SUMMARY:7:15-8:30am Somatic Flow and Sound @Black Swan Anderson
DESCRIPTION:Somatic Flow & Sound:Move\, build\, release. This class guides you through an intentional arc of fluid\, breath-driven movement designed to wake up sensation and bring you fully into your body. After the flow\, settle into stillness and drop into a sound bath to integrate and reset.
URL:https://giocondayoga.com/event/715-830am-somatic-flow-and-sound-black-swan-anderson/2029-08-26/
LOCATION:Black Swan Anderson\, 1417 West Anderson Lane\, Austin\, Texas\, 78757
CATEGORIES:Classes
ATTACH;FMTTYPE=image/jpeg:https://giocondayoga.com/wp-content/uploads/2024/03/About-Gia-Resized-1.jpg
END:VEVENT
BEGIN:VEVENT
DTSTART;TZID=America/New_York:20290902T071500
DTEND;TZID=America/New_York:20290902T083000
DTSTAMP:20260421T090734
CREATED:20260320T185150Z
LAST-MODIFIED:20260320T185844Z
UID:10010956-1883027700-1883032200@giocondayoga.com
SUMMARY:7:15-8:30am Somatic Flow and Sound @Black Swan Anderson
DESCRIPTION:Somatic Flow & Sound:Move\, build\, release. This class guides you through an intentional arc of fluid\, breath-driven movement designed to wake up sensation and bring you fully into your body. After the flow\, settle into stillness and drop into a sound bath to integrate and reset.
URL:https://giocondayoga.com/event/715-830am-somatic-flow-and-sound-black-swan-anderson/2029-09-02/
LOCATION:Black Swan Anderson\, 1417 West Anderson Lane\, Austin\, Texas\, 78757
CATEGORIES:Classes
ATTACH;FMTTYPE=image/jpeg:https://giocondayoga.com/wp-content/uploads/2024/03/About-Gia-Resized-1.jpg
END:VEVENT
BEGIN:VEVENT
DTSTART;TZID=America/New_York:20290909T071500
DTEND;TZID=America/New_York:20290909T083000
DTSTAMP:20260421T090734
CREATED:20260320T185150Z
LAST-MODIFIED:20260320T185844Z
UID:10010957-1883632500-1883637000@giocondayoga.com
SUMMARY:7:15-8:30am Somatic Flow and Sound @Black Swan Anderson
DESCRIPTION:Somatic Flow & Sound:Move\, build\, release. This class guides you through an intentional arc of fluid\, breath-driven movement designed to wake up sensation and bring you fully into your body. After the flow\, settle into stillness and drop into a sound bath to integrate and reset.
URL:https://giocondayoga.com/event/715-830am-somatic-flow-and-sound-black-swan-anderson/2029-09-09/
LOCATION:Black Swan Anderson\, 1417 West Anderson Lane\, Austin\, Texas\, 78757
CATEGORIES:Classes
ATTACH;FMTTYPE=image/jpeg:https://giocondayoga.com/wp-content/uploads/2024/03/About-Gia-Resized-1.jpg
END:VEVENT
BEGIN:VEVENT
DTSTART;TZID=America/New_York:20290916T071500
DTEND;TZID=America/New_York:20290916T083000
DTSTAMP:20260421T090734
CREATED:20260320T185150Z
LAST-MODIFIED:20260320T185844Z
UID:10010958-1884237300-1884241800@giocondayoga.com
SUMMARY:7:15-8:30am Somatic Flow and Sound @Black Swan Anderson
DESCRIPTION:Somatic Flow & Sound:Move\, build\, release. This class guides you through an intentional arc of fluid\, breath-driven movement designed to wake up sensation and bring you fully into your body. After the flow\, settle into stillness and drop into a sound bath to integrate and reset.
URL:https://giocondayoga.com/event/715-830am-somatic-flow-and-sound-black-swan-anderson/2029-09-16/
LOCATION:Black Swan Anderson\, 1417 West Anderson Lane\, Austin\, Texas\, 78757
CATEGORIES:Classes
ATTACH;FMTTYPE=image/jpeg:https://giocondayoga.com/wp-content/uploads/2024/03/About-Gia-Resized-1.jpg
END:VEVENT
BEGIN:VEVENT
DTSTART;TZID=America/New_York:20290923T071500
DTEND;TZID=America/New_York:20290923T083000
DTSTAMP:20260421T090734
CREATED:20260320T185150Z
LAST-MODIFIED:20260320T185844Z
UID:10010959-1884842100-1884846600@giocondayoga.com
SUMMARY:7:15-8:30am Somatic Flow and Sound @Black Swan Anderson
DESCRIPTION:Somatic Flow & Sound:Move\, build\, release. This class guides you through an intentional arc of fluid\, breath-driven movement designed to wake up sensation and bring you fully into your body. After the flow\, settle into stillness and drop into a sound bath to integrate and reset.
URL:https://giocondayoga.com/event/715-830am-somatic-flow-and-sound-black-swan-anderson/2029-09-23/
LOCATION:Black Swan Anderson\, 1417 West Anderson Lane\, Austin\, Texas\, 78757
CATEGORIES:Classes
ATTACH;FMTTYPE=image/jpeg:https://giocondayoga.com/wp-content/uploads/2024/03/About-Gia-Resized-1.jpg
END:VEVENT
BEGIN:VEVENT
DTSTART;TZID=America/New_York:20290930T071500
DTEND;TZID=America/New_York:20290930T083000
DTSTAMP:20260421T090734
CREATED:20260320T185150Z
LAST-MODIFIED:20260320T185844Z
UID:10010960-1885446900-1885451400@giocondayoga.com
SUMMARY:7:15-8:30am Somatic Flow and Sound @Black Swan Anderson
DESCRIPTION:Somatic Flow & Sound:Move\, build\, release. This class guides you through an intentional arc of fluid\, breath-driven movement designed to wake up sensation and bring you fully into your body. After the flow\, settle into stillness and drop into a sound bath to integrate and reset.
URL:https://giocondayoga.com/event/715-830am-somatic-flow-and-sound-black-swan-anderson/2029-09-30/
LOCATION:Black Swan Anderson\, 1417 West Anderson Lane\, Austin\, Texas\, 78757
CATEGORIES:Classes
ATTACH;FMTTYPE=image/jpeg:https://giocondayoga.com/wp-content/uploads/2024/03/About-Gia-Resized-1.jpg
END:VEVENT
END:VCALENDAR