BEGIN:VCALENDAR
VERSION:2.0
PRODID:-//Gioconda Yoga - ECPv6.15.20//NONSGML v1.0//EN
CALSCALE:GREGORIAN
METHOD:PUBLISH
X-ORIGINAL-URL:https://giocondayoga.com
X-WR-CALDESC:Events for Gioconda Yoga
REFRESH-INTERVAL;VALUE=DURATION:PT1H
X-Robots-Tag:noindex
X-PUBLISHED-TTL:PT1H
BEGIN:VTIMEZONE
TZID:America/New_York
BEGIN:DAYLIGHT
TZOFFSETFROM:-0500
TZOFFSETTO:-0400
TZNAME:EDT
DTSTART:20270314T070000
END:DAYLIGHT
BEGIN:STANDARD
TZOFFSETFROM:-0400
TZOFFSETTO:-0500
TZNAME:EST
DTSTART:20271107T060000
END:STANDARD
BEGIN:DAYLIGHT
TZOFFSETFROM:-0500
TZOFFSETTO:-0400
TZNAME:EDT
DTSTART:20280312T070000
END:DAYLIGHT
BEGIN:STANDARD
TZOFFSETFROM:-0400
TZOFFSETTO:-0500
TZNAME:EST
DTSTART:20281105T060000
END:STANDARD
BEGIN:DAYLIGHT
TZOFFSETFROM:-0500
TZOFFSETTO:-0400
TZNAME:EDT
DTSTART:20290311T070000
END:DAYLIGHT
BEGIN:STANDARD
TZOFFSETFROM:-0400
TZOFFSETTO:-0500
TZNAME:EST
DTSTART:20291104T060000
END:STANDARD
BEGIN:DAYLIGHT
TZOFFSETFROM:-0500
TZOFFSETTO:-0400
TZNAME:EDT
DTSTART:20300310T070000
END:DAYLIGHT
BEGIN:STANDARD
TZOFFSETFROM:-0400
TZOFFSETTO:-0500
TZNAME:EST
DTSTART:20301103T060000
END:STANDARD
END:VTIMEZONE
BEGIN:VEVENT
DTSTART;TZID=America/New_York:20281022T071500
DTEND;TZID=America/New_York:20281022T083000
DTSTAMP:20260421T055636
CREATED:20260320T185150Z
LAST-MODIFIED:20260320T185844Z
UID:10010911-1855811700-1855816200@giocondayoga.com
SUMMARY:7:15-8:30am Somatic Flow and Sound @Black Swan Anderson
DESCRIPTION:Somatic Flow & Sound:Move\, build\, release. This class guides you through an intentional arc of fluid\, breath-driven movement designed to wake up sensation and bring you fully into your body. After the flow\, settle into stillness and drop into a sound bath to integrate and reset.
URL:https://giocondayoga.com/event/715-830am-somatic-flow-and-sound-black-swan-anderson/2028-10-22/
LOCATION:Black Swan Anderson\, 1417 West Anderson Lane\, Austin\, Texas\, 78757
CATEGORIES:Classes
ATTACH;FMTTYPE=image/jpeg:https://giocondayoga.com/wp-content/uploads/2024/03/About-Gia-Resized-1.jpg
END:VEVENT
BEGIN:VEVENT
DTSTART;TZID=America/New_York:20281029T071500
DTEND;TZID=America/New_York:20281029T083000
DTSTAMP:20260421T055636
CREATED:20260320T185150Z
LAST-MODIFIED:20260320T185844Z
UID:10010912-1856416500-1856421000@giocondayoga.com
SUMMARY:7:15-8:30am Somatic Flow and Sound @Black Swan Anderson
DESCRIPTION:Somatic Flow & Sound:Move\, build\, release. This class guides you through an intentional arc of fluid\, breath-driven movement designed to wake up sensation and bring you fully into your body. After the flow\, settle into stillness and drop into a sound bath to integrate and reset.
URL:https://giocondayoga.com/event/715-830am-somatic-flow-and-sound-black-swan-anderson/2028-10-29/
LOCATION:Black Swan Anderson\, 1417 West Anderson Lane\, Austin\, Texas\, 78757
CATEGORIES:Classes
ATTACH;FMTTYPE=image/jpeg:https://giocondayoga.com/wp-content/uploads/2024/03/About-Gia-Resized-1.jpg
END:VEVENT
BEGIN:VEVENT
DTSTART;TZID=America/New_York:20281105T071500
DTEND;TZID=America/New_York:20281105T083000
DTSTAMP:20260421T055636
CREATED:20260320T185150Z
LAST-MODIFIED:20260320T185844Z
UID:10010913-1857021300-1857025800@giocondayoga.com
SUMMARY:7:15-8:30am Somatic Flow and Sound @Black Swan Anderson
DESCRIPTION:Somatic Flow & Sound:Move\, build\, release. This class guides you through an intentional arc of fluid\, breath-driven movement designed to wake up sensation and bring you fully into your body. After the flow\, settle into stillness and drop into a sound bath to integrate and reset.
URL:https://giocondayoga.com/event/715-830am-somatic-flow-and-sound-black-swan-anderson/2028-11-05/
LOCATION:Black Swan Anderson\, 1417 West Anderson Lane\, Austin\, Texas\, 78757
CATEGORIES:Classes
ATTACH;FMTTYPE=image/jpeg:https://giocondayoga.com/wp-content/uploads/2024/03/About-Gia-Resized-1.jpg
END:VEVENT
BEGIN:VEVENT
DTSTART;TZID=America/New_York:20281112T071500
DTEND;TZID=America/New_York:20281112T083000
DTSTAMP:20260421T055636
CREATED:20260320T185150Z
LAST-MODIFIED:20260320T185844Z
UID:10010914-1857626100-1857630600@giocondayoga.com
SUMMARY:7:15-8:30am Somatic Flow and Sound @Black Swan Anderson
DESCRIPTION:Somatic Flow & Sound:Move\, build\, release. This class guides you through an intentional arc of fluid\, breath-driven movement designed to wake up sensation and bring you fully into your body. After the flow\, settle into stillness and drop into a sound bath to integrate and reset.
URL:https://giocondayoga.com/event/715-830am-somatic-flow-and-sound-black-swan-anderson/2028-11-12/
LOCATION:Black Swan Anderson\, 1417 West Anderson Lane\, Austin\, Texas\, 78757
CATEGORIES:Classes
ATTACH;FMTTYPE=image/jpeg:https://giocondayoga.com/wp-content/uploads/2024/03/About-Gia-Resized-1.jpg
END:VEVENT
BEGIN:VEVENT
DTSTART;TZID=America/New_York:20281119T071500
DTEND;TZID=America/New_York:20281119T083000
DTSTAMP:20260421T055636
CREATED:20260320T185150Z
LAST-MODIFIED:20260320T185844Z
UID:10010915-1858230900-1858235400@giocondayoga.com
SUMMARY:7:15-8:30am Somatic Flow and Sound @Black Swan Anderson
DESCRIPTION:Somatic Flow & Sound:Move\, build\, release. This class guides you through an intentional arc of fluid\, breath-driven movement designed to wake up sensation and bring you fully into your body. After the flow\, settle into stillness and drop into a sound bath to integrate and reset.
URL:https://giocondayoga.com/event/715-830am-somatic-flow-and-sound-black-swan-anderson/2028-11-19/
LOCATION:Black Swan Anderson\, 1417 West Anderson Lane\, Austin\, Texas\, 78757
CATEGORIES:Classes
ATTACH;FMTTYPE=image/jpeg:https://giocondayoga.com/wp-content/uploads/2024/03/About-Gia-Resized-1.jpg
END:VEVENT
BEGIN:VEVENT
DTSTART;TZID=America/New_York:20281126T071500
DTEND;TZID=America/New_York:20281126T083000
DTSTAMP:20260421T055636
CREATED:20260320T185150Z
LAST-MODIFIED:20260320T185844Z
UID:10010916-1858835700-1858840200@giocondayoga.com
SUMMARY:7:15-8:30am Somatic Flow and Sound @Black Swan Anderson
DESCRIPTION:Somatic Flow & Sound:Move\, build\, release. This class guides you through an intentional arc of fluid\, breath-driven movement designed to wake up sensation and bring you fully into your body. After the flow\, settle into stillness and drop into a sound bath to integrate and reset.
URL:https://giocondayoga.com/event/715-830am-somatic-flow-and-sound-black-swan-anderson/2028-11-26/
LOCATION:Black Swan Anderson\, 1417 West Anderson Lane\, Austin\, Texas\, 78757
CATEGORIES:Classes
ATTACH;FMTTYPE=image/jpeg:https://giocondayoga.com/wp-content/uploads/2024/03/About-Gia-Resized-1.jpg
END:VEVENT
BEGIN:VEVENT
DTSTART;TZID=America/New_York:20281203T071500
DTEND;TZID=America/New_York:20281203T083000
DTSTAMP:20260421T055636
CREATED:20260320T185150Z
LAST-MODIFIED:20260320T185844Z
UID:10010917-1859440500-1859445000@giocondayoga.com
SUMMARY:7:15-8:30am Somatic Flow and Sound @Black Swan Anderson
DESCRIPTION:Somatic Flow & Sound:Move\, build\, release. This class guides you through an intentional arc of fluid\, breath-driven movement designed to wake up sensation and bring you fully into your body. After the flow\, settle into stillness and drop into a sound bath to integrate and reset.
URL:https://giocondayoga.com/event/715-830am-somatic-flow-and-sound-black-swan-anderson/2028-12-03/
LOCATION:Black Swan Anderson\, 1417 West Anderson Lane\, Austin\, Texas\, 78757
CATEGORIES:Classes
ATTACH;FMTTYPE=image/jpeg:https://giocondayoga.com/wp-content/uploads/2024/03/About-Gia-Resized-1.jpg
END:VEVENT
BEGIN:VEVENT
DTSTART;TZID=America/New_York:20281210T071500
DTEND;TZID=America/New_York:20281210T083000
DTSTAMP:20260421T055636
CREATED:20260320T185150Z
LAST-MODIFIED:20260320T185844Z
UID:10010918-1860045300-1860049800@giocondayoga.com
SUMMARY:7:15-8:30am Somatic Flow and Sound @Black Swan Anderson
DESCRIPTION:Somatic Flow & Sound:Move\, build\, release. This class guides you through an intentional arc of fluid\, breath-driven movement designed to wake up sensation and bring you fully into your body. After the flow\, settle into stillness and drop into a sound bath to integrate and reset.
URL:https://giocondayoga.com/event/715-830am-somatic-flow-and-sound-black-swan-anderson/2028-12-10/
LOCATION:Black Swan Anderson\, 1417 West Anderson Lane\, Austin\, Texas\, 78757
CATEGORIES:Classes
ATTACH;FMTTYPE=image/jpeg:https://giocondayoga.com/wp-content/uploads/2024/03/About-Gia-Resized-1.jpg
END:VEVENT
BEGIN:VEVENT
DTSTART;TZID=America/New_York:20281217T071500
DTEND;TZID=America/New_York:20281217T083000
DTSTAMP:20260421T055636
CREATED:20260320T185150Z
LAST-MODIFIED:20260320T185844Z
UID:10010919-1860650100-1860654600@giocondayoga.com
SUMMARY:7:15-8:30am Somatic Flow and Sound @Black Swan Anderson
DESCRIPTION:Somatic Flow & Sound:Move\, build\, release. This class guides you through an intentional arc of fluid\, breath-driven movement designed to wake up sensation and bring you fully into your body. After the flow\, settle into stillness and drop into a sound bath to integrate and reset.
URL:https://giocondayoga.com/event/715-830am-somatic-flow-and-sound-black-swan-anderson/2028-12-17/
LOCATION:Black Swan Anderson\, 1417 West Anderson Lane\, Austin\, Texas\, 78757
CATEGORIES:Classes
ATTACH;FMTTYPE=image/jpeg:https://giocondayoga.com/wp-content/uploads/2024/03/About-Gia-Resized-1.jpg
END:VEVENT
BEGIN:VEVENT
DTSTART;TZID=America/New_York:20281224T071500
DTEND;TZID=America/New_York:20281224T083000
DTSTAMP:20260421T055636
CREATED:20260320T185150Z
LAST-MODIFIED:20260320T185844Z
UID:10010920-1861254900-1861259400@giocondayoga.com
SUMMARY:7:15-8:30am Somatic Flow and Sound @Black Swan Anderson
DESCRIPTION:Somatic Flow & Sound:Move\, build\, release. This class guides you through an intentional arc of fluid\, breath-driven movement designed to wake up sensation and bring you fully into your body. After the flow\, settle into stillness and drop into a sound bath to integrate and reset.
URL:https://giocondayoga.com/event/715-830am-somatic-flow-and-sound-black-swan-anderson/2028-12-24/
LOCATION:Black Swan Anderson\, 1417 West Anderson Lane\, Austin\, Texas\, 78757
CATEGORIES:Classes
ATTACH;FMTTYPE=image/jpeg:https://giocondayoga.com/wp-content/uploads/2024/03/About-Gia-Resized-1.jpg
END:VEVENT
BEGIN:VEVENT
DTSTART;TZID=America/New_York:20281231T071500
DTEND;TZID=America/New_York:20281231T083000
DTSTAMP:20260421T055636
CREATED:20260320T185150Z
LAST-MODIFIED:20260320T185844Z
UID:10010921-1861859700-1861864200@giocondayoga.com
SUMMARY:7:15-8:30am Somatic Flow and Sound @Black Swan Anderson
DESCRIPTION:Somatic Flow & Sound:Move\, build\, release. This class guides you through an intentional arc of fluid\, breath-driven movement designed to wake up sensation and bring you fully into your body. After the flow\, settle into stillness and drop into a sound bath to integrate and reset.
URL:https://giocondayoga.com/event/715-830am-somatic-flow-and-sound-black-swan-anderson/2028-12-31/
LOCATION:Black Swan Anderson\, 1417 West Anderson Lane\, Austin\, Texas\, 78757
CATEGORIES:Classes
ATTACH;FMTTYPE=image/jpeg:https://giocondayoga.com/wp-content/uploads/2024/03/About-Gia-Resized-1.jpg
END:VEVENT
BEGIN:VEVENT
DTSTART;TZID=America/New_York:20290107T071500
DTEND;TZID=America/New_York:20290107T083000
DTSTAMP:20260421T055636
CREATED:20260320T185150Z
LAST-MODIFIED:20260320T185844Z
UID:10010922-1862464500-1862469000@giocondayoga.com
SUMMARY:7:15-8:30am Somatic Flow and Sound @Black Swan Anderson
DESCRIPTION:Somatic Flow & Sound:Move\, build\, release. This class guides you through an intentional arc of fluid\, breath-driven movement designed to wake up sensation and bring you fully into your body. After the flow\, settle into stillness and drop into a sound bath to integrate and reset.
URL:https://giocondayoga.com/event/715-830am-somatic-flow-and-sound-black-swan-anderson/2029-01-07/
LOCATION:Black Swan Anderson\, 1417 West Anderson Lane\, Austin\, Texas\, 78757
CATEGORIES:Classes
ATTACH;FMTTYPE=image/jpeg:https://giocondayoga.com/wp-content/uploads/2024/03/About-Gia-Resized-1.jpg
END:VEVENT
BEGIN:VEVENT
DTSTART;TZID=America/New_York:20290114T071500
DTEND;TZID=America/New_York:20290114T083000
DTSTAMP:20260421T055636
CREATED:20260320T185150Z
LAST-MODIFIED:20260320T185844Z
UID:10010923-1863069300-1863073800@giocondayoga.com
SUMMARY:7:15-8:30am Somatic Flow and Sound @Black Swan Anderson
DESCRIPTION:Somatic Flow & Sound:Move\, build\, release. This class guides you through an intentional arc of fluid\, breath-driven movement designed to wake up sensation and bring you fully into your body. After the flow\, settle into stillness and drop into a sound bath to integrate and reset.
URL:https://giocondayoga.com/event/715-830am-somatic-flow-and-sound-black-swan-anderson/2029-01-14/
LOCATION:Black Swan Anderson\, 1417 West Anderson Lane\, Austin\, Texas\, 78757
CATEGORIES:Classes
ATTACH;FMTTYPE=image/jpeg:https://giocondayoga.com/wp-content/uploads/2024/03/About-Gia-Resized-1.jpg
END:VEVENT
BEGIN:VEVENT
DTSTART;TZID=America/New_York:20290121T071500
DTEND;TZID=America/New_York:20290121T083000
DTSTAMP:20260421T055636
CREATED:20260320T185150Z
LAST-MODIFIED:20260320T185844Z
UID:10010924-1863674100-1863678600@giocondayoga.com
SUMMARY:7:15-8:30am Somatic Flow and Sound @Black Swan Anderson
DESCRIPTION:Somatic Flow & Sound:Move\, build\, release. This class guides you through an intentional arc of fluid\, breath-driven movement designed to wake up sensation and bring you fully into your body. After the flow\, settle into stillness and drop into a sound bath to integrate and reset.
URL:https://giocondayoga.com/event/715-830am-somatic-flow-and-sound-black-swan-anderson/2029-01-21/
LOCATION:Black Swan Anderson\, 1417 West Anderson Lane\, Austin\, Texas\, 78757
CATEGORIES:Classes
ATTACH;FMTTYPE=image/jpeg:https://giocondayoga.com/wp-content/uploads/2024/03/About-Gia-Resized-1.jpg
END:VEVENT
BEGIN:VEVENT
DTSTART;TZID=America/New_York:20290128T071500
DTEND;TZID=America/New_York:20290128T083000
DTSTAMP:20260421T055636
CREATED:20260320T185150Z
LAST-MODIFIED:20260320T185844Z
UID:10010925-1864278900-1864283400@giocondayoga.com
SUMMARY:7:15-8:30am Somatic Flow and Sound @Black Swan Anderson
DESCRIPTION:Somatic Flow & Sound:Move\, build\, release. This class guides you through an intentional arc of fluid\, breath-driven movement designed to wake up sensation and bring you fully into your body. After the flow\, settle into stillness and drop into a sound bath to integrate and reset.
URL:https://giocondayoga.com/event/715-830am-somatic-flow-and-sound-black-swan-anderson/2029-01-28/
LOCATION:Black Swan Anderson\, 1417 West Anderson Lane\, Austin\, Texas\, 78757
CATEGORIES:Classes
ATTACH;FMTTYPE=image/jpeg:https://giocondayoga.com/wp-content/uploads/2024/03/About-Gia-Resized-1.jpg
END:VEVENT
BEGIN:VEVENT
DTSTART;TZID=America/New_York:20290204T071500
DTEND;TZID=America/New_York:20290204T083000
DTSTAMP:20260421T055636
CREATED:20260320T185150Z
LAST-MODIFIED:20260320T185844Z
UID:10010926-1864883700-1864888200@giocondayoga.com
SUMMARY:7:15-8:30am Somatic Flow and Sound @Black Swan Anderson
DESCRIPTION:Somatic Flow & Sound:Move\, build\, release. This class guides you through an intentional arc of fluid\, breath-driven movement designed to wake up sensation and bring you fully into your body. After the flow\, settle into stillness and drop into a sound bath to integrate and reset.
URL:https://giocondayoga.com/event/715-830am-somatic-flow-and-sound-black-swan-anderson/2029-02-04/
LOCATION:Black Swan Anderson\, 1417 West Anderson Lane\, Austin\, Texas\, 78757
CATEGORIES:Classes
ATTACH;FMTTYPE=image/jpeg:https://giocondayoga.com/wp-content/uploads/2024/03/About-Gia-Resized-1.jpg
END:VEVENT
BEGIN:VEVENT
DTSTART;TZID=America/New_York:20290211T071500
DTEND;TZID=America/New_York:20290211T083000
DTSTAMP:20260421T055636
CREATED:20260320T185150Z
LAST-MODIFIED:20260320T185844Z
UID:10010927-1865488500-1865493000@giocondayoga.com
SUMMARY:7:15-8:30am Somatic Flow and Sound @Black Swan Anderson
DESCRIPTION:Somatic Flow & Sound:Move\, build\, release. This class guides you through an intentional arc of fluid\, breath-driven movement designed to wake up sensation and bring you fully into your body. After the flow\, settle into stillness and drop into a sound bath to integrate and reset.
URL:https://giocondayoga.com/event/715-830am-somatic-flow-and-sound-black-swan-anderson/2029-02-11/
LOCATION:Black Swan Anderson\, 1417 West Anderson Lane\, Austin\, Texas\, 78757
CATEGORIES:Classes
ATTACH;FMTTYPE=image/jpeg:https://giocondayoga.com/wp-content/uploads/2024/03/About-Gia-Resized-1.jpg
END:VEVENT
BEGIN:VEVENT
DTSTART;TZID=America/New_York:20290218T071500
DTEND;TZID=America/New_York:20290218T083000
DTSTAMP:20260421T055636
CREATED:20260320T185150Z
LAST-MODIFIED:20260320T185844Z
UID:10010928-1866093300-1866097800@giocondayoga.com
SUMMARY:7:15-8:30am Somatic Flow and Sound @Black Swan Anderson
DESCRIPTION:Somatic Flow & Sound:Move\, build\, release. This class guides you through an intentional arc of fluid\, breath-driven movement designed to wake up sensation and bring you fully into your body. After the flow\, settle into stillness and drop into a sound bath to integrate and reset.
URL:https://giocondayoga.com/event/715-830am-somatic-flow-and-sound-black-swan-anderson/2029-02-18/
LOCATION:Black Swan Anderson\, 1417 West Anderson Lane\, Austin\, Texas\, 78757
CATEGORIES:Classes
ATTACH;FMTTYPE=image/jpeg:https://giocondayoga.com/wp-content/uploads/2024/03/About-Gia-Resized-1.jpg
END:VEVENT
BEGIN:VEVENT
DTSTART;TZID=America/New_York:20290225T071500
DTEND;TZID=America/New_York:20290225T083000
DTSTAMP:20260421T055636
CREATED:20260320T185150Z
LAST-MODIFIED:20260320T185844Z
UID:10010929-1866698100-1866702600@giocondayoga.com
SUMMARY:7:15-8:30am Somatic Flow and Sound @Black Swan Anderson
DESCRIPTION:Somatic Flow & Sound:Move\, build\, release. This class guides you through an intentional arc of fluid\, breath-driven movement designed to wake up sensation and bring you fully into your body. After the flow\, settle into stillness and drop into a sound bath to integrate and reset.
URL:https://giocondayoga.com/event/715-830am-somatic-flow-and-sound-black-swan-anderson/2029-02-25/
LOCATION:Black Swan Anderson\, 1417 West Anderson Lane\, Austin\, Texas\, 78757
CATEGORIES:Classes
ATTACH;FMTTYPE=image/jpeg:https://giocondayoga.com/wp-content/uploads/2024/03/About-Gia-Resized-1.jpg
END:VEVENT
BEGIN:VEVENT
DTSTART;TZID=America/New_York:20290304T071500
DTEND;TZID=America/New_York:20290304T083000
DTSTAMP:20260421T055636
CREATED:20260320T185150Z
LAST-MODIFIED:20260320T185844Z
UID:10010930-1867302900-1867307400@giocondayoga.com
SUMMARY:7:15-8:30am Somatic Flow and Sound @Black Swan Anderson
DESCRIPTION:Somatic Flow & Sound:Move\, build\, release. This class guides you through an intentional arc of fluid\, breath-driven movement designed to wake up sensation and bring you fully into your body. After the flow\, settle into stillness and drop into a sound bath to integrate and reset.
URL:https://giocondayoga.com/event/715-830am-somatic-flow-and-sound-black-swan-anderson/2029-03-04/
LOCATION:Black Swan Anderson\, 1417 West Anderson Lane\, Austin\, Texas\, 78757
CATEGORIES:Classes
ATTACH;FMTTYPE=image/jpeg:https://giocondayoga.com/wp-content/uploads/2024/03/About-Gia-Resized-1.jpg
END:VEVENT
BEGIN:VEVENT
DTSTART;TZID=America/New_York:20290311T071500
DTEND;TZID=America/New_York:20290311T083000
DTSTAMP:20260421T055636
CREATED:20260320T185150Z
LAST-MODIFIED:20260320T185844Z
UID:10010931-1867907700-1867912200@giocondayoga.com
SUMMARY:7:15-8:30am Somatic Flow and Sound @Black Swan Anderson
DESCRIPTION:Somatic Flow & Sound:Move\, build\, release. This class guides you through an intentional arc of fluid\, breath-driven movement designed to wake up sensation and bring you fully into your body. After the flow\, settle into stillness and drop into a sound bath to integrate and reset.
URL:https://giocondayoga.com/event/715-830am-somatic-flow-and-sound-black-swan-anderson/2029-03-11/
LOCATION:Black Swan Anderson\, 1417 West Anderson Lane\, Austin\, Texas\, 78757
CATEGORIES:Classes
ATTACH;FMTTYPE=image/jpeg:https://giocondayoga.com/wp-content/uploads/2024/03/About-Gia-Resized-1.jpg
END:VEVENT
BEGIN:VEVENT
DTSTART;TZID=America/New_York:20290318T071500
DTEND;TZID=America/New_York:20290318T083000
DTSTAMP:20260421T055636
CREATED:20260320T185150Z
LAST-MODIFIED:20260320T185844Z
UID:10010932-1868512500-1868517000@giocondayoga.com
SUMMARY:7:15-8:30am Somatic Flow and Sound @Black Swan Anderson
DESCRIPTION:Somatic Flow & Sound:Move\, build\, release. This class guides you through an intentional arc of fluid\, breath-driven movement designed to wake up sensation and bring you fully into your body. After the flow\, settle into stillness and drop into a sound bath to integrate and reset.
URL:https://giocondayoga.com/event/715-830am-somatic-flow-and-sound-black-swan-anderson/2029-03-18/
LOCATION:Black Swan Anderson\, 1417 West Anderson Lane\, Austin\, Texas\, 78757
CATEGORIES:Classes
ATTACH;FMTTYPE=image/jpeg:https://giocondayoga.com/wp-content/uploads/2024/03/About-Gia-Resized-1.jpg
END:VEVENT
BEGIN:VEVENT
DTSTART;TZID=America/New_York:20290325T071500
DTEND;TZID=America/New_York:20290325T083000
DTSTAMP:20260421T055636
CREATED:20260320T185150Z
LAST-MODIFIED:20260320T185844Z
UID:10010933-1869117300-1869121800@giocondayoga.com
SUMMARY:7:15-8:30am Somatic Flow and Sound @Black Swan Anderson
DESCRIPTION:Somatic Flow & Sound:Move\, build\, release. This class guides you through an intentional arc of fluid\, breath-driven movement designed to wake up sensation and bring you fully into your body. After the flow\, settle into stillness and drop into a sound bath to integrate and reset.
URL:https://giocondayoga.com/event/715-830am-somatic-flow-and-sound-black-swan-anderson/2029-03-25/
LOCATION:Black Swan Anderson\, 1417 West Anderson Lane\, Austin\, Texas\, 78757
CATEGORIES:Classes
ATTACH;FMTTYPE=image/jpeg:https://giocondayoga.com/wp-content/uploads/2024/03/About-Gia-Resized-1.jpg
END:VEVENT
BEGIN:VEVENT
DTSTART;TZID=America/New_York:20290401T071500
DTEND;TZID=America/New_York:20290401T083000
DTSTAMP:20260421T055636
CREATED:20260320T185150Z
LAST-MODIFIED:20260320T185844Z
UID:10010934-1869722100-1869726600@giocondayoga.com
SUMMARY:7:15-8:30am Somatic Flow and Sound @Black Swan Anderson
DESCRIPTION:Somatic Flow & Sound:Move\, build\, release. This class guides you through an intentional arc of fluid\, breath-driven movement designed to wake up sensation and bring you fully into your body. After the flow\, settle into stillness and drop into a sound bath to integrate and reset.
URL:https://giocondayoga.com/event/715-830am-somatic-flow-and-sound-black-swan-anderson/2029-04-01/
LOCATION:Black Swan Anderson\, 1417 West Anderson Lane\, Austin\, Texas\, 78757
CATEGORIES:Classes
ATTACH;FMTTYPE=image/jpeg:https://giocondayoga.com/wp-content/uploads/2024/03/About-Gia-Resized-1.jpg
END:VEVENT
BEGIN:VEVENT
DTSTART;TZID=America/New_York:20290408T071500
DTEND;TZID=America/New_York:20290408T083000
DTSTAMP:20260421T055636
CREATED:20260320T185150Z
LAST-MODIFIED:20260320T185844Z
UID:10010935-1870326900-1870331400@giocondayoga.com
SUMMARY:7:15-8:30am Somatic Flow and Sound @Black Swan Anderson
DESCRIPTION:Somatic Flow & Sound:Move\, build\, release. This class guides you through an intentional arc of fluid\, breath-driven movement designed to wake up sensation and bring you fully into your body. After the flow\, settle into stillness and drop into a sound bath to integrate and reset.
URL:https://giocondayoga.com/event/715-830am-somatic-flow-and-sound-black-swan-anderson/2029-04-08/
LOCATION:Black Swan Anderson\, 1417 West Anderson Lane\, Austin\, Texas\, 78757
CATEGORIES:Classes
ATTACH;FMTTYPE=image/jpeg:https://giocondayoga.com/wp-content/uploads/2024/03/About-Gia-Resized-1.jpg
END:VEVENT
BEGIN:VEVENT
DTSTART;TZID=America/New_York:20290415T071500
DTEND;TZID=America/New_York:20290415T083000
DTSTAMP:20260421T055636
CREATED:20260320T185150Z
LAST-MODIFIED:20260320T185844Z
UID:10010936-1870931700-1870936200@giocondayoga.com
SUMMARY:7:15-8:30am Somatic Flow and Sound @Black Swan Anderson
DESCRIPTION:Somatic Flow & Sound:Move\, build\, release. This class guides you through an intentional arc of fluid\, breath-driven movement designed to wake up sensation and bring you fully into your body. After the flow\, settle into stillness and drop into a sound bath to integrate and reset.
URL:https://giocondayoga.com/event/715-830am-somatic-flow-and-sound-black-swan-anderson/2029-04-15/
LOCATION:Black Swan Anderson\, 1417 West Anderson Lane\, Austin\, Texas\, 78757
CATEGORIES:Classes
ATTACH;FMTTYPE=image/jpeg:https://giocondayoga.com/wp-content/uploads/2024/03/About-Gia-Resized-1.jpg
END:VEVENT
BEGIN:VEVENT
DTSTART;TZID=America/New_York:20290422T071500
DTEND;TZID=America/New_York:20290422T083000
DTSTAMP:20260421T055636
CREATED:20260320T185150Z
LAST-MODIFIED:20260320T185844Z
UID:10010937-1871536500-1871541000@giocondayoga.com
SUMMARY:7:15-8:30am Somatic Flow and Sound @Black Swan Anderson
DESCRIPTION:Somatic Flow & Sound:Move\, build\, release. This class guides you through an intentional arc of fluid\, breath-driven movement designed to wake up sensation and bring you fully into your body. After the flow\, settle into stillness and drop into a sound bath to integrate and reset.
URL:https://giocondayoga.com/event/715-830am-somatic-flow-and-sound-black-swan-anderson/2029-04-22/
LOCATION:Black Swan Anderson\, 1417 West Anderson Lane\, Austin\, Texas\, 78757
CATEGORIES:Classes
ATTACH;FMTTYPE=image/jpeg:https://giocondayoga.com/wp-content/uploads/2024/03/About-Gia-Resized-1.jpg
END:VEVENT
BEGIN:VEVENT
DTSTART;TZID=America/New_York:20290429T071500
DTEND;TZID=America/New_York:20290429T083000
DTSTAMP:20260421T055636
CREATED:20260320T185150Z
LAST-MODIFIED:20260320T185844Z
UID:10010938-1872141300-1872145800@giocondayoga.com
SUMMARY:7:15-8:30am Somatic Flow and Sound @Black Swan Anderson
DESCRIPTION:Somatic Flow & Sound:Move\, build\, release. This class guides you through an intentional arc of fluid\, breath-driven movement designed to wake up sensation and bring you fully into your body. After the flow\, settle into stillness and drop into a sound bath to integrate and reset.
URL:https://giocondayoga.com/event/715-830am-somatic-flow-and-sound-black-swan-anderson/2029-04-29/
LOCATION:Black Swan Anderson\, 1417 West Anderson Lane\, Austin\, Texas\, 78757
CATEGORIES:Classes
ATTACH;FMTTYPE=image/jpeg:https://giocondayoga.com/wp-content/uploads/2024/03/About-Gia-Resized-1.jpg
END:VEVENT
BEGIN:VEVENT
DTSTART;TZID=America/New_York:20290506T071500
DTEND;TZID=America/New_York:20290506T083000
DTSTAMP:20260421T055636
CREATED:20260320T185150Z
LAST-MODIFIED:20260320T185844Z
UID:10010939-1872746100-1872750600@giocondayoga.com
SUMMARY:7:15-8:30am Somatic Flow and Sound @Black Swan Anderson
DESCRIPTION:Somatic Flow & Sound:Move\, build\, release. This class guides you through an intentional arc of fluid\, breath-driven movement designed to wake up sensation and bring you fully into your body. After the flow\, settle into stillness and drop into a sound bath to integrate and reset.
URL:https://giocondayoga.com/event/715-830am-somatic-flow-and-sound-black-swan-anderson/2029-05-06/
LOCATION:Black Swan Anderson\, 1417 West Anderson Lane\, Austin\, Texas\, 78757
CATEGORIES:Classes
ATTACH;FMTTYPE=image/jpeg:https://giocondayoga.com/wp-content/uploads/2024/03/About-Gia-Resized-1.jpg
END:VEVENT
BEGIN:VEVENT
DTSTART;TZID=America/New_York:20290513T071500
DTEND;TZID=America/New_York:20290513T083000
DTSTAMP:20260421T055636
CREATED:20260320T185150Z
LAST-MODIFIED:20260320T185844Z
UID:10010940-1873350900-1873355400@giocondayoga.com
SUMMARY:7:15-8:30am Somatic Flow and Sound @Black Swan Anderson
DESCRIPTION:Somatic Flow & Sound:Move\, build\, release. This class guides you through an intentional arc of fluid\, breath-driven movement designed to wake up sensation and bring you fully into your body. After the flow\, settle into stillness and drop into a sound bath to integrate and reset.
URL:https://giocondayoga.com/event/715-830am-somatic-flow-and-sound-black-swan-anderson/2029-05-13/
LOCATION:Black Swan Anderson\, 1417 West Anderson Lane\, Austin\, Texas\, 78757
CATEGORIES:Classes
ATTACH;FMTTYPE=image/jpeg:https://giocondayoga.com/wp-content/uploads/2024/03/About-Gia-Resized-1.jpg
END:VEVENT
END:VCALENDAR