BEGIN:VCALENDAR
VERSION:2.0
PRODID:-//Gioconda Yoga - ECPv6.15.20//NONSGML v1.0//EN
CALSCALE:GREGORIAN
METHOD:PUBLISH
X-WR-CALNAME:Gioconda Yoga
X-ORIGINAL-URL:https://giocondayoga.com
X-WR-CALDESC:Events for Gioconda Yoga
REFRESH-INTERVAL;VALUE=DURATION:PT1H
X-Robots-Tag:noindex
X-PUBLISHED-TTL:PT1H
BEGIN:VTIMEZONE
TZID:America/New_York
BEGIN:DAYLIGHT
TZOFFSETFROM:-0500
TZOFFSETTO:-0400
TZNAME:EDT
DTSTART:20300310T070000
END:DAYLIGHT
BEGIN:STANDARD
TZOFFSETFROM:-0400
TZOFFSETTO:-0500
TZNAME:EST
DTSTART:20301103T060000
END:STANDARD
BEGIN:DAYLIGHT
TZOFFSETFROM:-0500
TZOFFSETTO:-0400
TZNAME:EDT
DTSTART:20310309T070000
END:DAYLIGHT
BEGIN:STANDARD
TZOFFSETFROM:-0400
TZOFFSETTO:-0500
TZNAME:EST
DTSTART:20311102T060000
END:STANDARD
BEGIN:DAYLIGHT
TZOFFSETFROM:-0500
TZOFFSETTO:-0400
TZNAME:EDT
DTSTART:20320314T070000
END:DAYLIGHT
BEGIN:STANDARD
TZOFFSETFROM:-0400
TZOFFSETTO:-0500
TZNAME:EST
DTSTART:20321107T060000
END:STANDARD
END:VTIMEZONE
BEGIN:VEVENT
DTSTART;TZID=America/New_York:20310301T103000
DTEND;TZID=America/New_York:20310301T113000
DTSTAMP:20260423T173822
CREATED:20260320T184644Z
LAST-MODIFIED:20260320T184644Z
UID:10009994-1930127400-1930131000@giocondayoga.com
SUMMARY:10:30am Heated Flow @BlackSwan Yoga --Orchard Location
DESCRIPTION:Flow yoga is Black Swan’s signature class. This is a great class for all levels of people to enjoy. Anyone and everyone is welcome to try out Flow yoga. It is a style of yoga that strengthens and stretches the entire body. There is a special emphasis on the power and importance of your breath. This class will aim to unite your breath and body. Flow yoga is accessible by all levels of student. It’s a great class to begin with! \nThis donation based studio doesn’t require membership to attend; pay what you can to practice with me!
URL:https://giocondayoga.com/event/1030am-heated-flow-blackswan-yoga-orchard-location/2031-03-01/
LOCATION:Black Swan Yoga\, 1213 5th Street\, Austin\, TX\, 78703
CATEGORIES:Classes
ATTACH;FMTTYPE=image/jpeg:https://giocondayoga.com/wp-content/uploads/2026/01/Embodied-Sequencing-Weekend-Immersion-with-Gioconda-Parker-600x800px-e1769708985965.jpg
END:VEVENT
BEGIN:VEVENT
DTSTART;TZID=America/New_York:20310302T071500
DTEND;TZID=America/New_York:20310302T083000
DTSTAMP:20260423T173822
CREATED:20260320T185150Z
LAST-MODIFIED:20260320T185844Z
UID:10011034-1930202100-1930206600@giocondayoga.com
SUMMARY:7:15-8:30am Somatic Flow and Sound @Black Swan Anderson
DESCRIPTION:Somatic Flow & Sound:Move\, build\, release. This class guides you through an intentional arc of fluid\, breath-driven movement designed to wake up sensation and bring you fully into your body. After the flow\, settle into stillness and drop into a sound bath to integrate and reset.
URL:https://giocondayoga.com/event/715-830am-somatic-flow-and-sound-black-swan-anderson/2031-03-02/
LOCATION:Black Swan Anderson\, 1417 West Anderson Lane\, Austin\, Texas\, 78757
CATEGORIES:Classes
ATTACH;FMTTYPE=image/jpeg:https://giocondayoga.com/wp-content/uploads/2024/03/About-Gia-Resized-1.jpg
END:VEVENT
BEGIN:VEVENT
DTSTART;TZID=America/New_York:20310303T093000
DTEND;TZID=America/New_York:20310303T103000
DTSTAMP:20260423T173822
CREATED:20260114T201718Z
LAST-MODIFIED:20260320T184020Z
UID:10009472-1930296600-1930300200@giocondayoga.com
SUMMARY:9:30am Vinyasa @Present Practice Yoga
DESCRIPTION:A breath-led yoga practice that invites you into moving meditation and embodied presence. Vinyasa at Present Practice is a container for self-exploration—where conscious movement\, intentional transitions\, and mindful pacing create space to connect with your innermost Self. \nEach class is shaped by the teacher’s lineage\, training\, and lived relationship with yoga. Some practices are more fluid and continuous\, flowing breath-to-movement\, while others emphasize alignment\, stability\, and functional transitions. All are grounded in yogic tradition and guided with care\, clarity\, and depth. \nEvery Vinyasa class shares a few core rituals: beginning with breath and intention\, weaving mindfulness throughout the practice\, and closing with a nourishing savasana. Uplifting music supports the energetic arc of class\, while hands-on assists and thoughtful use of props are offered to support each student’s unique practice and journey. \nThis is a feel-good\, full-body practice that balances effort and ease—designed to meet you where you are and invite you deeper into the experience of yoga.
URL:https://giocondayoga.com/event/930am-vinyasa-present-practice-yoga/2031-03-03/
LOCATION:Texas
CATEGORIES:Classes
ATTACH;FMTTYPE=image/jpeg:https://giocondayoga.com/wp-content/uploads/2026/01/new-headshot.jpg
END:VEVENT
BEGIN:VEVENT
DTSTART;TZID=America/New_York:20310304T120000
DTEND;TZID=America/New_York:20310304T130000
DTSTAMP:20260423T173822
CREATED:20260320T184250Z
LAST-MODIFIED:20260320T184250Z
UID:10009733-1930392000-1930395600@giocondayoga.com
SUMMARY:12pm Vinyasa @Present Practice Yoga
DESCRIPTION:A breath-led yoga practice that invites you into moving meditation and embodied presence. Vinyasa at Present Practice is a container for self-exploration—where conscious movement\, intentional transitions\, and mindful pacing create space to connect with your innermost Self. \nEach class is shaped by the teacher’s lineage\, training\, and lived relationship with yoga. Some practices are more fluid and continuous\, flowing breath-to-movement\, while others emphasize alignment\, stability\, and functional transitions. All are grounded in yogic tradition and guided with care\, clarity\, and depth. \nEvery Vinyasa class shares a few core rituals: beginning with breath and intention\, weaving mindfulness throughout the practice\, and closing with a nourishing savasana. Uplifting music supports the energetic arc of class\, while hands-on assists and thoughtful use of props are offered to support each student’s unique practice and journey. \nThis is a feel-good\, full-body practice that balances effort and ease—designed to meet you where you are and invite you deeper into the experience of yoga.
URL:https://giocondayoga.com/event/12pm-vinyasa-present-practice-yoga/2031-03-04/
LOCATION:Present Practice\, 4th & Brazos\, Austin\, TX\, 78702\, United States
CATEGORIES:Classes
ATTACH;FMTTYPE=image/jpeg:https://giocondayoga.com/wp-content/uploads/2025/10/IMG06718.jpg
END:VEVENT
BEGIN:VEVENT
DTSTART;TZID=America/New_York:20310304T160000
DTEND;TZID=America/New_York:20310304T170000
DTSTAMP:20260423T173822
CREATED:20260114T201531Z
LAST-MODIFIED:20260320T190011Z
UID:10011304-1930406400-1930410000@giocondayoga.com
SUMMARY:4pm Vinyasa @Present Practice Yoga
DESCRIPTION:A breath-led yoga practice that invites you into moving meditation and embodied presence. Vinyasa at Present Practice is a container for self-exploration—where conscious movement\, intentional transitions\, and mindful pacing create space to connect with your innermost Self. \nEach class is shaped by the teacher’s lineage\, training\, and lived relationship with yoga. Some practices are more fluid and continuous\, flowing breath-to-movement\, while others emphasize alignment\, stability\, and functional transitions. All are grounded in yogic tradition and guided with care\, clarity\, and depth. \nEvery Vinyasa class shares a few core rituals: beginning with breath and intention\, weaving mindfulness throughout the practice\, and closing with a nourishing savasana. Uplifting music supports the energetic arc of class\, while hands-on assists and thoughtful use of props are offered to support each student’s unique practice and journey. \nThis is a feel-good\, full-body practice that balances effort and ease—designed to meet you where you are and invite you deeper into the experience of yoga.
URL:https://giocondayoga.com/event/430pm-vinyasa-present-practice-yoga/2031-03-04/
LOCATION:Present Practice\, 4th & Brazos\, Austin\, TX\, 78702\, United States
CATEGORIES:Classes
ATTACH;FMTTYPE=image/jpeg:https://giocondayoga.com/wp-content/uploads/2026/01/new-headshot.jpg
END:VEVENT
BEGIN:VEVENT
DTSTART;TZID=America/New_York:20310308T103000
DTEND;TZID=America/New_York:20310308T113000
DTSTAMP:20260423T173822
CREATED:20260320T184644Z
LAST-MODIFIED:20260320T184644Z
UID:10009995-1930732200-1930735800@giocondayoga.com
SUMMARY:10:30am Heated Flow @BlackSwan Yoga --Orchard Location
DESCRIPTION:Flow yoga is Black Swan’s signature class. This is a great class for all levels of people to enjoy. Anyone and everyone is welcome to try out Flow yoga. It is a style of yoga that strengthens and stretches the entire body. There is a special emphasis on the power and importance of your breath. This class will aim to unite your breath and body. Flow yoga is accessible by all levels of student. It’s a great class to begin with! \nThis donation based studio doesn’t require membership to attend; pay what you can to practice with me!
URL:https://giocondayoga.com/event/1030am-heated-flow-blackswan-yoga-orchard-location/2031-03-08/
LOCATION:Black Swan Yoga\, 1213 5th Street\, Austin\, TX\, 78703
CATEGORIES:Classes
ATTACH;FMTTYPE=image/jpeg:https://giocondayoga.com/wp-content/uploads/2026/01/Embodied-Sequencing-Weekend-Immersion-with-Gioconda-Parker-600x800px-e1769708985965.jpg
END:VEVENT
BEGIN:VEVENT
DTSTART;TZID=America/New_York:20310309T071500
DTEND;TZID=America/New_York:20310309T083000
DTSTAMP:20260423T173822
CREATED:20260320T185150Z
LAST-MODIFIED:20260320T185844Z
UID:10011035-1930806900-1930811400@giocondayoga.com
SUMMARY:7:15-8:30am Somatic Flow and Sound @Black Swan Anderson
DESCRIPTION:Somatic Flow & Sound:Move\, build\, release. This class guides you through an intentional arc of fluid\, breath-driven movement designed to wake up sensation and bring you fully into your body. After the flow\, settle into stillness and drop into a sound bath to integrate and reset.
URL:https://giocondayoga.com/event/715-830am-somatic-flow-and-sound-black-swan-anderson/2031-03-09/
LOCATION:Black Swan Anderson\, 1417 West Anderson Lane\, Austin\, Texas\, 78757
CATEGORIES:Classes
ATTACH;FMTTYPE=image/jpeg:https://giocondayoga.com/wp-content/uploads/2024/03/About-Gia-Resized-1.jpg
END:VEVENT
BEGIN:VEVENT
DTSTART;TZID=America/New_York:20310310T093000
DTEND;TZID=America/New_York:20310310T103000
DTSTAMP:20260423T173822
CREATED:20260114T201718Z
LAST-MODIFIED:20260320T184020Z
UID:10009473-1930901400-1930905000@giocondayoga.com
SUMMARY:9:30am Vinyasa @Present Practice Yoga
DESCRIPTION:A breath-led yoga practice that invites you into moving meditation and embodied presence. Vinyasa at Present Practice is a container for self-exploration—where conscious movement\, intentional transitions\, and mindful pacing create space to connect with your innermost Self. \nEach class is shaped by the teacher’s lineage\, training\, and lived relationship with yoga. Some practices are more fluid and continuous\, flowing breath-to-movement\, while others emphasize alignment\, stability\, and functional transitions. All are grounded in yogic tradition and guided with care\, clarity\, and depth. \nEvery Vinyasa class shares a few core rituals: beginning with breath and intention\, weaving mindfulness throughout the practice\, and closing with a nourishing savasana. Uplifting music supports the energetic arc of class\, while hands-on assists and thoughtful use of props are offered to support each student’s unique practice and journey. \nThis is a feel-good\, full-body practice that balances effort and ease—designed to meet you where you are and invite you deeper into the experience of yoga.
URL:https://giocondayoga.com/event/930am-vinyasa-present-practice-yoga/2031-03-10/
LOCATION:Texas
CATEGORIES:Classes
ATTACH;FMTTYPE=image/jpeg:https://giocondayoga.com/wp-content/uploads/2026/01/new-headshot.jpg
END:VEVENT
BEGIN:VEVENT
DTSTART;TZID=America/New_York:20310311T120000
DTEND;TZID=America/New_York:20310311T130000
DTSTAMP:20260423T173822
CREATED:20260320T184250Z
LAST-MODIFIED:20260320T184250Z
UID:10009734-1930996800-1931000400@giocondayoga.com
SUMMARY:12pm Vinyasa @Present Practice Yoga
DESCRIPTION:A breath-led yoga practice that invites you into moving meditation and embodied presence. Vinyasa at Present Practice is a container for self-exploration—where conscious movement\, intentional transitions\, and mindful pacing create space to connect with your innermost Self. \nEach class is shaped by the teacher’s lineage\, training\, and lived relationship with yoga. Some practices are more fluid and continuous\, flowing breath-to-movement\, while others emphasize alignment\, stability\, and functional transitions. All are grounded in yogic tradition and guided with care\, clarity\, and depth. \nEvery Vinyasa class shares a few core rituals: beginning with breath and intention\, weaving mindfulness throughout the practice\, and closing with a nourishing savasana. Uplifting music supports the energetic arc of class\, while hands-on assists and thoughtful use of props are offered to support each student’s unique practice and journey. \nThis is a feel-good\, full-body practice that balances effort and ease—designed to meet you where you are and invite you deeper into the experience of yoga.
URL:https://giocondayoga.com/event/12pm-vinyasa-present-practice-yoga/2031-03-11/
LOCATION:Present Practice\, 4th & Brazos\, Austin\, TX\, 78702\, United States
CATEGORIES:Classes
ATTACH;FMTTYPE=image/jpeg:https://giocondayoga.com/wp-content/uploads/2025/10/IMG06718.jpg
END:VEVENT
BEGIN:VEVENT
DTSTART;TZID=America/New_York:20310311T160000
DTEND;TZID=America/New_York:20310311T170000
DTSTAMP:20260423T173822
CREATED:20260114T201531Z
LAST-MODIFIED:20260320T190011Z
UID:10011305-1931011200-1931014800@giocondayoga.com
SUMMARY:4pm Vinyasa @Present Practice Yoga
DESCRIPTION:A breath-led yoga practice that invites you into moving meditation and embodied presence. Vinyasa at Present Practice is a container for self-exploration—where conscious movement\, intentional transitions\, and mindful pacing create space to connect with your innermost Self. \nEach class is shaped by the teacher’s lineage\, training\, and lived relationship with yoga. Some practices are more fluid and continuous\, flowing breath-to-movement\, while others emphasize alignment\, stability\, and functional transitions. All are grounded in yogic tradition and guided with care\, clarity\, and depth. \nEvery Vinyasa class shares a few core rituals: beginning with breath and intention\, weaving mindfulness throughout the practice\, and closing with a nourishing savasana. Uplifting music supports the energetic arc of class\, while hands-on assists and thoughtful use of props are offered to support each student’s unique practice and journey. \nThis is a feel-good\, full-body practice that balances effort and ease—designed to meet you where you are and invite you deeper into the experience of yoga.
URL:https://giocondayoga.com/event/430pm-vinyasa-present-practice-yoga/2031-03-11/
LOCATION:Present Practice\, 4th & Brazos\, Austin\, TX\, 78702\, United States
CATEGORIES:Classes
ATTACH;FMTTYPE=image/jpeg:https://giocondayoga.com/wp-content/uploads/2026/01/new-headshot.jpg
END:VEVENT
BEGIN:VEVENT
DTSTART;TZID=America/New_York:20310315T103000
DTEND;TZID=America/New_York:20310315T113000
DTSTAMP:20260423T173822
CREATED:20260320T184644Z
LAST-MODIFIED:20260320T184644Z
UID:10009996-1931337000-1931340600@giocondayoga.com
SUMMARY:10:30am Heated Flow @BlackSwan Yoga --Orchard Location
DESCRIPTION:Flow yoga is Black Swan’s signature class. This is a great class for all levels of people to enjoy. Anyone and everyone is welcome to try out Flow yoga. It is a style of yoga that strengthens and stretches the entire body. There is a special emphasis on the power and importance of your breath. This class will aim to unite your breath and body. Flow yoga is accessible by all levels of student. It’s a great class to begin with! \nThis donation based studio doesn’t require membership to attend; pay what you can to practice with me!
URL:https://giocondayoga.com/event/1030am-heated-flow-blackswan-yoga-orchard-location/2031-03-15/
LOCATION:Black Swan Yoga\, 1213 5th Street\, Austin\, TX\, 78703
CATEGORIES:Classes
ATTACH;FMTTYPE=image/jpeg:https://giocondayoga.com/wp-content/uploads/2026/01/Embodied-Sequencing-Weekend-Immersion-with-Gioconda-Parker-600x800px-e1769708985965.jpg
END:VEVENT
BEGIN:VEVENT
DTSTART;TZID=America/New_York:20310316T071500
DTEND;TZID=America/New_York:20310316T083000
DTSTAMP:20260423T173822
CREATED:20260320T185150Z
LAST-MODIFIED:20260320T185844Z
UID:10011036-1931411700-1931416200@giocondayoga.com
SUMMARY:7:15-8:30am Somatic Flow and Sound @Black Swan Anderson
DESCRIPTION:Somatic Flow & Sound:Move\, build\, release. This class guides you through an intentional arc of fluid\, breath-driven movement designed to wake up sensation and bring you fully into your body. After the flow\, settle into stillness and drop into a sound bath to integrate and reset.
URL:https://giocondayoga.com/event/715-830am-somatic-flow-and-sound-black-swan-anderson/2031-03-16/
LOCATION:Black Swan Anderson\, 1417 West Anderson Lane\, Austin\, Texas\, 78757
CATEGORIES:Classes
ATTACH;FMTTYPE=image/jpeg:https://giocondayoga.com/wp-content/uploads/2024/03/About-Gia-Resized-1.jpg
END:VEVENT
BEGIN:VEVENT
DTSTART;TZID=America/New_York:20310317T093000
DTEND;TZID=America/New_York:20310317T103000
DTSTAMP:20260423T173822
CREATED:20260114T201718Z
LAST-MODIFIED:20260320T184020Z
UID:10009474-1931506200-1931509800@giocondayoga.com
SUMMARY:9:30am Vinyasa @Present Practice Yoga
DESCRIPTION:A breath-led yoga practice that invites you into moving meditation and embodied presence. Vinyasa at Present Practice is a container for self-exploration—where conscious movement\, intentional transitions\, and mindful pacing create space to connect with your innermost Self. \nEach class is shaped by the teacher’s lineage\, training\, and lived relationship with yoga. Some practices are more fluid and continuous\, flowing breath-to-movement\, while others emphasize alignment\, stability\, and functional transitions. All are grounded in yogic tradition and guided with care\, clarity\, and depth. \nEvery Vinyasa class shares a few core rituals: beginning with breath and intention\, weaving mindfulness throughout the practice\, and closing with a nourishing savasana. Uplifting music supports the energetic arc of class\, while hands-on assists and thoughtful use of props are offered to support each student’s unique practice and journey. \nThis is a feel-good\, full-body practice that balances effort and ease—designed to meet you where you are and invite you deeper into the experience of yoga.
URL:https://giocondayoga.com/event/930am-vinyasa-present-practice-yoga/2031-03-17/
LOCATION:Texas
CATEGORIES:Classes
ATTACH;FMTTYPE=image/jpeg:https://giocondayoga.com/wp-content/uploads/2026/01/new-headshot.jpg
END:VEVENT
BEGIN:VEVENT
DTSTART;TZID=America/New_York:20310318T120000
DTEND;TZID=America/New_York:20310318T130000
DTSTAMP:20260423T173822
CREATED:20260320T184250Z
LAST-MODIFIED:20260320T184250Z
UID:10009735-1931601600-1931605200@giocondayoga.com
SUMMARY:12pm Vinyasa @Present Practice Yoga
DESCRIPTION:A breath-led yoga practice that invites you into moving meditation and embodied presence. Vinyasa at Present Practice is a container for self-exploration—where conscious movement\, intentional transitions\, and mindful pacing create space to connect with your innermost Self. \nEach class is shaped by the teacher’s lineage\, training\, and lived relationship with yoga. Some practices are more fluid and continuous\, flowing breath-to-movement\, while others emphasize alignment\, stability\, and functional transitions. All are grounded in yogic tradition and guided with care\, clarity\, and depth. \nEvery Vinyasa class shares a few core rituals: beginning with breath and intention\, weaving mindfulness throughout the practice\, and closing with a nourishing savasana. Uplifting music supports the energetic arc of class\, while hands-on assists and thoughtful use of props are offered to support each student’s unique practice and journey. \nThis is a feel-good\, full-body practice that balances effort and ease—designed to meet you where you are and invite you deeper into the experience of yoga.
URL:https://giocondayoga.com/event/12pm-vinyasa-present-practice-yoga/2031-03-18/
LOCATION:Present Practice\, 4th & Brazos\, Austin\, TX\, 78702\, United States
CATEGORIES:Classes
ATTACH;FMTTYPE=image/jpeg:https://giocondayoga.com/wp-content/uploads/2025/10/IMG06718.jpg
END:VEVENT
BEGIN:VEVENT
DTSTART;TZID=America/New_York:20310318T160000
DTEND;TZID=America/New_York:20310318T170000
DTSTAMP:20260423T173822
CREATED:20260114T201531Z
LAST-MODIFIED:20260320T190011Z
UID:10011306-1931616000-1931619600@giocondayoga.com
SUMMARY:4pm Vinyasa @Present Practice Yoga
DESCRIPTION:A breath-led yoga practice that invites you into moving meditation and embodied presence. Vinyasa at Present Practice is a container for self-exploration—where conscious movement\, intentional transitions\, and mindful pacing create space to connect with your innermost Self. \nEach class is shaped by the teacher’s lineage\, training\, and lived relationship with yoga. Some practices are more fluid and continuous\, flowing breath-to-movement\, while others emphasize alignment\, stability\, and functional transitions. All are grounded in yogic tradition and guided with care\, clarity\, and depth. \nEvery Vinyasa class shares a few core rituals: beginning with breath and intention\, weaving mindfulness throughout the practice\, and closing with a nourishing savasana. Uplifting music supports the energetic arc of class\, while hands-on assists and thoughtful use of props are offered to support each student’s unique practice and journey. \nThis is a feel-good\, full-body practice that balances effort and ease—designed to meet you where you are and invite you deeper into the experience of yoga.
URL:https://giocondayoga.com/event/430pm-vinyasa-present-practice-yoga/2031-03-18/
LOCATION:Present Practice\, 4th & Brazos\, Austin\, TX\, 78702\, United States
CATEGORIES:Classes
ATTACH;FMTTYPE=image/jpeg:https://giocondayoga.com/wp-content/uploads/2026/01/new-headshot.jpg
END:VEVENT
END:VCALENDAR