BEGIN:VCALENDAR
VERSION:2.0
PRODID:-//Gioconda Yoga - ECPv6.15.20//NONSGML v1.0//EN
CALSCALE:GREGORIAN
METHOD:PUBLISH
X-WR-CALNAME:Gioconda Yoga
X-ORIGINAL-URL:https://giocondayoga.com
X-WR-CALDESC:Events for Gioconda Yoga
REFRESH-INTERVAL;VALUE=DURATION:PT1H
X-Robots-Tag:noindex
X-PUBLISHED-TTL:PT1H
BEGIN:VTIMEZONE
TZID:America/New_York
BEGIN:DAYLIGHT
TZOFFSETFROM:-0500
TZOFFSETTO:-0400
TZNAME:EDT
DTSTART:20300310T070000
END:DAYLIGHT
BEGIN:STANDARD
TZOFFSETFROM:-0400
TZOFFSETTO:-0500
TZNAME:EST
DTSTART:20301103T060000
END:STANDARD
BEGIN:DAYLIGHT
TZOFFSETFROM:-0500
TZOFFSETTO:-0400
TZNAME:EDT
DTSTART:20310309T070000
END:DAYLIGHT
BEGIN:STANDARD
TZOFFSETFROM:-0400
TZOFFSETTO:-0500
TZNAME:EST
DTSTART:20311102T060000
END:STANDARD
BEGIN:DAYLIGHT
TZOFFSETFROM:-0500
TZOFFSETTO:-0400
TZNAME:EDT
DTSTART:20320314T070000
END:DAYLIGHT
BEGIN:STANDARD
TZOFFSETFROM:-0400
TZOFFSETTO:-0500
TZNAME:EST
DTSTART:20321107T060000
END:STANDARD
END:VTIMEZONE
BEGIN:VEVENT
DTSTART;TZID=America/New_York:20310129T200000
DTEND;TZID=America/New_York:20310129T210000
DTSTAMP:20260423T190837
CREATED:20260226T140516Z
LAST-MODIFIED:20260226T140518Z
UID:10008667-1927483200-1927486800@giocondayoga.com
SUMMARY:8pm Yin @Present Practice
DESCRIPTION:A deeply restorative practice designed to nourish the nervous system\, open the body’s connective tissues\, and invite profound stillness. Yin Yoga is practiced at a slower pace\, with postures held for longer periods of time and supported by gravity\, breath\, and props rather than muscular effort. \nThis non-heated class works primarily on the joints\, fascia\, and energetic pathways of the body\, offering a powerful complement to more active practices like Vinyasa\, Power\, Pilates\, and Sculpt. Rooted in principles of Traditional Chinese Medicine\, Yin supports balance in the meridians\, encourages healthy circulation of energy\, and helps regulate the stress response. \nExpect long\, spacious holds\, mindful breath awareness\, and generous use of props to support each shape. The practice invites you to soften\, surrender\, and listen—creating space not just in the body\, but in the mind and inner landscape as well. \nYin is ideal for anyone seeking restoration\, deeper flexibility\, emotional balance\, and a sense of grounded calm. Come as you are and leave feeling open\, regulated\, and deeply at ease. \nTemperature: Non-heated \nTeacher Style: Each class is shaped by the teacher’s lineage\, training\, and approach. We invite you to explore teacher bios on our website—or simply come try a class and feel what resonates.
URL:https://giocondayoga.com/event/730pm-yin-present-practice-2/2031-01-29/
LOCATION:Present Practice\, 4th & Brazos\, Austin\, TX\, 78702\, United States
CATEGORIES:Classes
ATTACH;FMTTYPE=image/jpeg:https://giocondayoga.com/wp-content/uploads/2026/01/new-headshot.jpg
END:VEVENT
END:VCALENDAR