BEGIN:VCALENDAR
VERSION:2.0
PRODID:-//Gioconda Yoga - ECPv6.15.20//NONSGML v1.0//EN
CALSCALE:GREGORIAN
METHOD:PUBLISH
X-WR-CALNAME:Gioconda Yoga
X-ORIGINAL-URL:https://giocondayoga.com
X-WR-CALDESC:Events for Gioconda Yoga
REFRESH-INTERVAL;VALUE=DURATION:PT1H
X-Robots-Tag:noindex
X-PUBLISHED-TTL:PT1H
BEGIN:VTIMEZONE
TZID:America/New_York
BEGIN:DAYLIGHT
TZOFFSETFROM:-0500
TZOFFSETTO:-0400
TZNAME:EDT
DTSTART:20260308T070000
END:DAYLIGHT
BEGIN:STANDARD
TZOFFSETFROM:-0400
TZOFFSETTO:-0500
TZNAME:EST
DTSTART:20261101T060000
END:STANDARD
BEGIN:DAYLIGHT
TZOFFSETFROM:-0500
TZOFFSETTO:-0400
TZNAME:EDT
DTSTART:20270314T070000
END:DAYLIGHT
BEGIN:STANDARD
TZOFFSETFROM:-0400
TZOFFSETTO:-0500
TZNAME:EST
DTSTART:20271107T060000
END:STANDARD
BEGIN:DAYLIGHT
TZOFFSETFROM:-0500
TZOFFSETTO:-0400
TZNAME:EDT
DTSTART:20280312T070000
END:DAYLIGHT
BEGIN:STANDARD
TZOFFSETFROM:-0400
TZOFFSETTO:-0500
TZNAME:EST
DTSTART:20281105T060000
END:STANDARD
END:VTIMEZONE
BEGIN:VEVENT
DTSTART;TZID=America/New_York:20270622T120000
DTEND;TZID=America/New_York:20270622T130000
DTSTAMP:20260419T164332
CREATED:20260320T184250Z
LAST-MODIFIED:20260320T184250Z
UID:10009540-1813665600-1813669200@giocondayoga.com
SUMMARY:12pm Vinyasa @Present Practice Yoga
DESCRIPTION:A breath-led yoga practice that invites you into moving meditation and embodied presence. Vinyasa at Present Practice is a container for self-exploration—where conscious movement\, intentional transitions\, and mindful pacing create space to connect with your innermost Self. \nEach class is shaped by the teacher’s lineage\, training\, and lived relationship with yoga. Some practices are more fluid and continuous\, flowing breath-to-movement\, while others emphasize alignment\, stability\, and functional transitions. All are grounded in yogic tradition and guided with care\, clarity\, and depth. \nEvery Vinyasa class shares a few core rituals: beginning with breath and intention\, weaving mindfulness throughout the practice\, and closing with a nourishing savasana. Uplifting music supports the energetic arc of class\, while hands-on assists and thoughtful use of props are offered to support each student’s unique practice and journey. \nThis is a feel-good\, full-body practice that balances effort and ease—designed to meet you where you are and invite you deeper into the experience of yoga.
URL:https://giocondayoga.com/event/12pm-vinyasa-present-practice-yoga/2027-06-22/
LOCATION:Present Practice\, 4th & Brazos\, Austin\, TX\, 78702\, United States
CATEGORIES:Classes
ATTACH;FMTTYPE=image/jpeg:https://giocondayoga.com/wp-content/uploads/2025/10/IMG06718.jpg
END:VEVENT
BEGIN:VEVENT
DTSTART;TZID=America/New_York:20270622T160000
DTEND;TZID=America/New_York:20270622T170000
DTSTAMP:20260419T164332
CREATED:20260114T201531Z
LAST-MODIFIED:20260320T190011Z
UID:10011111-1813680000-1813683600@giocondayoga.com
SUMMARY:4pm Vinyasa @Present Practice Yoga
DESCRIPTION:A breath-led yoga practice that invites you into moving meditation and embodied presence. Vinyasa at Present Practice is a container for self-exploration—where conscious movement\, intentional transitions\, and mindful pacing create space to connect with your innermost Self. \nEach class is shaped by the teacher’s lineage\, training\, and lived relationship with yoga. Some practices are more fluid and continuous\, flowing breath-to-movement\, while others emphasize alignment\, stability\, and functional transitions. All are grounded in yogic tradition and guided with care\, clarity\, and depth. \nEvery Vinyasa class shares a few core rituals: beginning with breath and intention\, weaving mindfulness throughout the practice\, and closing with a nourishing savasana. Uplifting music supports the energetic arc of class\, while hands-on assists and thoughtful use of props are offered to support each student’s unique practice and journey. \nThis is a feel-good\, full-body practice that balances effort and ease—designed to meet you where you are and invite you deeper into the experience of yoga.
URL:https://giocondayoga.com/event/430pm-vinyasa-present-practice-yoga/2027-06-22/
LOCATION:Present Practice\, 4th & Brazos\, Austin\, TX\, 78702\, United States
CATEGORIES:Classes
ATTACH;FMTTYPE=image/jpeg:https://giocondayoga.com/wp-content/uploads/2026/01/new-headshot.jpg
END:VEVENT
END:VCALENDAR